BEGIN:VCALENDAR
VERSION:2.0
PRODID:-//Hannoverscher Rennverein - ECPv6.15.17.1//NONSGML v1.0//EN
CALSCALE:GREGORIAN
METHOD:PUBLISH
X-ORIGINAL-URL:https://www.neuebult.de
X-WR-CALDESC:Veranstaltungen für Hannoverscher Rennverein
REFRESH-INTERVAL;VALUE=DURATION:PT1H
X-Robots-Tag:noindex
X-PUBLISHED-TTL:PT1H
BEGIN:VTIMEZONE
TZID:Europe/Berlin
BEGIN:DAYLIGHT
TZOFFSETFROM:+0100
TZOFFSETTO:+0200
TZNAME:CEST
DTSTART:20230326T010000
END:DAYLIGHT
BEGIN:STANDARD
TZOFFSETFROM:+0200
TZOFFSETTO:+0100
TZNAME:CET
DTSTART:20231029T010000
END:STANDARD
BEGIN:DAYLIGHT
TZOFFSETFROM:+0100
TZOFFSETTO:+0200
TZNAME:CEST
DTSTART:20240331T010000
END:DAYLIGHT
BEGIN:STANDARD
TZOFFSETFROM:+0200
TZOFFSETTO:+0100
TZNAME:CET
DTSTART:20241027T010000
END:STANDARD
BEGIN:DAYLIGHT
TZOFFSETFROM:+0100
TZOFFSETTO:+0200
TZNAME:CEST
DTSTART:20250330T010000
END:DAYLIGHT
BEGIN:STANDARD
TZOFFSETFROM:+0200
TZOFFSETTO:+0100
TZNAME:CET
DTSTART:20251026T010000
END:STANDARD
END:VTIMEZONE
BEGIN:VEVENT
DTSTART;TZID=Europe/Berlin:20240929T123000
DTEND;TZID=Europe/Berlin:20240929T180000
DTSTAMP:20260426T032335
CREATED:20250123T180105Z
LAST-MODIFIED:20250123T180105Z
UID:19477-1727613000-1727632800@www.neuebult.de
SUMMARY:Oktoberfest-Renntag
DESCRIPTION:Oktoberfest-Renntag: Stimmungsvolles Rahmenprogramm um den Großer Preis der Privatbank ODDO BHF\nAm kommenden Sonntag verwandelt sich die Rennbahn Neue Bult in ein bayrisches Fest! Der Oktoberfest-Renntag startet um 12:30 Uhr und verspricht neun aufregende Galopprennen sowie ein stimmungsvolles Rahmenprogramm im passenden Ambiente. Gäste in bayrischer Tracht genießen freien Eintritt. Der Einlass auf das Gelände beginnt um 11:30 Uhr. \nGroßer Preis der Privatbank ODDO BHF: Diamond Crown auf dem Weg zur Krönung? \nDie Pferdedamen stehen sportlich im Mittelpunkt\, 12 Starter bestreiten den Großen Preis der Privatbank ODDO BHF über 2.000 Meter. Die Besetzung dieses mit 25.000 Euro dotierten Listenrennens ist international\, denn aus Frankreich reist Veil Of Shadows an. Sie läuft in den weltberühmten Godolphin-Farben\, gehört also den Scheichs aus Dubai. Trainer Henri-Alex Pantall hat in der Vergangenheit in Deutschland und auch auf der Neuen Bult so manch Rennen gewonnen\, er weiß\, was hier verlangt wird. Jockey Soufiane Saadi reist extra mit. Auch die in Dänemark trainierte Stute Ultima sorgt für eine internationale Note. Die besten Vorleistungen zeigten jedoch zwei drei Jahre alte deutsche Pferdedamen: Diamond Crown aus dem Gestüt Brümmerhof wird von Andreas Suborics trainiert\, im Sattel sitzt Hugo Boutin. Egina läuft für das Gestüt Park Wiedingen\, hat Peter Schiergen als Trainer und Bauyrzhan Murzabayev als Jockey. In diesem Rennen kann auch die Viererwette gespielt werden. Es gibt eine Garantieauszahlung von 10.000 Euro bei einem Mindesteinsatz von 50 Cent. \nBMW Hannover Cup mit sieben Startern \nBeim zweiten Hauptrennen\, dem BMW Hannover Cup\, handelt es sich um einen mit 20.000 Euro dotierten Ausgleich I über 2.000 Meter. Diese Klasse ist wie die Bundesliga im Galopprennsport zu verstehen. Sieben Pferde treten an\, darunter der von Janina Reese auf der Neuen Bult trainierte Sporting\, der aber als Außenseiter gilt. Siegkandidaten gibt es einige\, darunter den fünffachen Saisonsieger Stay First von Trainer Sascha Smrczek und den formstarken Geopolitic\, einen von zwei Startern aus dem Stall von Stefan Richter in Dresden. \nDie Chance auf den Heimsieg \nVon den 71 genannten Pferden werden 11 auf der Neuen Bult trainiert. Die besten Chancen auf einen Heimsieg könnte es im 8. Rennen geben\, dem TÜV NORD-Cup. Denn die von Bohumil Nedorostek trainierte Winterweide siegte am letzten Renntag so überlegen\, dass sie ihre sechs Gegner auch diesmal hinter sich lassen sollte. \nPaul Janke auf der Neuen Bult \nAbseits der Rennstrecke wird die Neue Bult zur Wiesn: Ein stimmungsvolles Ambiente sowie ein spannender Trachtenwettbewerb sorgen für Oktoberfest-Stimmung. Urbachelor Paul Janke und Moderatorin sowie Model Luisa Verfuerth küren den Trachtenkönig und die Trachtenkönigin\, auf die hochwertige Preise warten. Kinder können sich auf ein großes Kinderland mit Karussell\, Rutschen\, Hüpfburg und die Möglichkeit\, eigene Lebkuchenherzen zu verzieren\, freuen. Außerdem lockt das Maskottchen-Rennen mit einer Tombola voller toller Gewinne. \nKinder bis 12 Jahre haben freien Eintritt. Tickets sind online für 12 Euro oder am Renntag an den Tageskassen für 14 Euro erhältlich (Ermäßigungen für Schüler\, Studenten und weitere Gruppen). \nDiamond Crown gewinnt den Großen Preis der Privatbank ODDO BHF / Drei Siege für Nachwuchsreiter Tomas Roman\nAm heutigen Sonntag strömten 7.600 begeisterte Zuschauer\, viele in traditioneller Tracht auf die Rennbahn Neue Bult\, um den stimmungsvollen Oktoberfest-Renntag mitzuerleben. \nDen Großen Preis der Privatbank ODDO BHF\, ein mit 25.000 Euro dotiertes Listenrennen für Stuten\, gewann die favorisierte Diamond Crown aus dem Gestüt Brümmerhof. Wie auf der Neuen Bult oftmals zu beobachten\, war der Weg an die Außenrails ein entscheidender Faktor für die drei Jahre alte Stute\, die von Andreas Suborics in Köln trainiert wird. Es war allerdings knapp gegen die ebenfalls drei Jahre alte Egina und gegen Außenseiterin Global Queen. „Sie hat heute gezeigt\, dass sie in dieser Klasse einen Tick über ihren Gegnerinnen stand”\, so Siegjockey Hugo Boutin nach dem Rennen. Boutin und Suborics hatten bereits die einleitende Prüfung mit Gracia gewinnen können\, ein besonderes Rennen\, denn es liefen nur zwei Pferde nachdem es zuvor drei Abmeldungen gegeben hatte. \n \nDen Ausgleich I BMW Hannover Cup gewann Free Lips aus dem Stall von Eva Fabianova mit Tomáš Roman im Sattel nach einem spannenden Endkampf gegen Stay First und dem von Janina Reese trainierten Lokalmatador Sporting. Für das siegreiche Team war es der zweite Treffer nach Earl of Lips zuvor im Preis des Gefährten. Dem 17 Jahre jungen tschechischen Reiter gelang sogar ein Hattrick\, denn auch den Preis der Deutschen Hypo konnte er mit der Stute Weria gewinnen. Zweimal erfolgreich war die Bremer Rennreiterin Melina Ehm mit Espero und zum Abschluss mit Emmeci. \n \nEinen Heimsieg gab es durch Winterweide im TÜV Nord Cup\, der vorletzten Tagesprüfung. Es war ein Start-Ziel-Sieg\, wobei die von Bohumil Nedorostek trainierte Stute unter David Liska doch etwas mehr kämpfen musste\, als im Vorfeld erwartet. Auch das zweiplatzierte Pferd wird vor Ort trainiert\, nämlich Sporting Hunter von Christian Sprengel. \nDer Trachtenwettbewerb war ein voller Erfolg! Zahlreiche Teilnehmer präsentierten ihre schönsten Outfits und brachten echtes Wiesn-Flair auf die Rennbahn. Auch die kleinen Gäste glänzten in liebevoll gestalteten Trachten und sorgten für begeisterte Gesichter. Moderiert wurde von Urbachelor Paul Janke und Model Luisa Verfuerth\, die mit viel Charme durch den Wettbewerb führten. Am Ende freuten sich die Gewinner über tolle Preise und ein rundum gelungenes Oktoberfest-Event. \nFür beste Stimmung bei den jüngsten Besuchern sorgte das Maskottchenrennen\, das für die Kinder mit einer Tombola verbunden war. \n \nIn den neun Rennen wurden insgesamt 186.636\,33 Euro umgesetzt. \nDie nächste Veranstaltung auf der Neuen Bult ist am Sonntag\, den 27. Oktober. Der Renntag der Gestüte\, der voraussichtlich um 11:00 Uhr beginnt\, verspricht reihenweise Spitzenrennen. \nRennfilme\n\n\n01. Das Rennen der „Premio Reifen + Autoservice Jörg Leskien“ – EBF (D)\, 1.200m\, 10.000 EUR\, Boden: gut bis weich\n02. Preis der FOCAM AG – EBF (D)\, 2.000m\, 10.000 EUR\, Boden: gut bis weich\n03. Preis des Gefährten – (D)\, 2.000m\, 15.000 EUR\, Boden: gut bis weich \n04. BMW Hannover Cup – Agl.I (B)\, 2.000m\, 20.000 EUR\, Boden: gut bis weich\n05. Preis der Deutschen Hypo – NORD/LB Real Estate Finance – Agl.IV (E)\, 2.000m\, 7.000 EUR\, Boden: gut bis weich\n06. Großer Preis der Privatbank ODDO BHF – L. Stuen (A)\, 2.000m\, 25.000 EUR\, Boden: gut bis weich\n07. Artus-Trophy – Agl.III (D)\, 1.400m\, 8.000 EUR\, Boden: gut bis weich\n08. TÜV NORD-Cup – Agl.IV (E)\, 1.600m\, 6.000 EUR\, Boden: gut bis weich\n09. Preis der Contigo Consulting – Agl.IV (E)\, 2.800m\, 6.000 EUR\, Boden: gut bis weich \nBildergalerien\nDie Bildergalerien zum Oktoberfest-Renntag
URL:https://www.neuebult.de/renntermine/7-renntag-2/
CATEGORIES:2024
ATTACH;FMTTYPE=image/jpeg:https://www.neuebult.de/wp-content/uploads/2022/06/180521D354HANNOVER-1.jpg
END:VEVENT
END:VCALENDAR