BEGIN:VCALENDAR
VERSION:2.0
PRODID:-//Hannoverscher Rennverein - ECPv6.15.17.1//NONSGML v1.0//EN
CALSCALE:GREGORIAN
METHOD:PUBLISH
X-ORIGINAL-URL:https://www.neuebult.de
X-WR-CALDESC:Veranstaltungen für Hannoverscher Rennverein
REFRESH-INTERVAL;VALUE=DURATION:PT1H
X-Robots-Tag:noindex
X-PUBLISHED-TTL:PT1H
BEGIN:VTIMEZONE
TZID:Europe/Berlin
BEGIN:DAYLIGHT
TZOFFSETFROM:+0100
TZOFFSETTO:+0200
TZNAME:CEST
DTSTART:20240331T010000
END:DAYLIGHT
BEGIN:STANDARD
TZOFFSETFROM:+0200
TZOFFSETTO:+0100
TZNAME:CET
DTSTART:20241027T010000
END:STANDARD
BEGIN:DAYLIGHT
TZOFFSETFROM:+0100
TZOFFSETTO:+0200
TZNAME:CEST
DTSTART:20250330T010000
END:DAYLIGHT
BEGIN:STANDARD
TZOFFSETFROM:+0200
TZOFFSETTO:+0100
TZNAME:CET
DTSTART:20251026T010000
END:STANDARD
BEGIN:DAYLIGHT
TZOFFSETFROM:+0100
TZOFFSETTO:+0200
TZNAME:CEST
DTSTART:20260329T010000
END:DAYLIGHT
BEGIN:STANDARD
TZOFFSETFROM:+0200
TZOFFSETTO:+0100
TZNAME:CET
DTSTART:20261025T010000
END:STANDARD
END:VTIMEZONE
BEGIN:VEVENT
DTSTART;TZID=Europe/Berlin:20250609T120000
DTEND;TZID=Europe/Berlin:20250609T173000
DTSTAMP:20260425T125906
CREATED:20250120T082423Z
LAST-MODIFIED:20250623T090846Z
UID:26084-1749470400-1749490200@www.neuebult.de
SUMMARY:Renntag der Hannoverschen Volksbank
DESCRIPTION:10 Rennen und Extremsteher im Highlight\nDas Pfingstwochenende klingt mit dem dritten Saisonrenntag auf der Neuen Bult aus: Am Pfingstmontag den 9. Juni\, findet der Renntag der Hannoverschen Volksbank statt. Die Veranstaltung beginnt um 12 Uhr (Einlass bereits ab 11 Uhr). Das erste Rennen startet um 13:15 Uhr. \nHauptereignis ist der Große Preis der Hannoverschen Volksbank\, ein Rennen über weite 3.000 Meter\, das mit 25.000 Euro dotiert ist. Es handelt sich um eine Prüfung der Listenklasse. Sieben Pferde treten an und den bisherigen Leistungen nach zu urteilen\, gilt der sechsjährige Wallach Waldadler\, trainiert von Pavel Vovcenko in Bremen-Mahndorf\, als Favorit. Im Sattel sitzt Lokalmatador Wladimir Panov. Als Wundertüte gilt die vierjährige Stute Night of Laki’s aus dem Stall von Andreas Wöhler\, die sich erstmals mit der Elite der deutschen Extremsteher misst. \nGleich in drei Rennen treten talentierte Dreijährige an – vielleicht ist ja der eine oder andere zukünftige Crack darunter. Erwähnenswert ist zudem die R+V-Trophy\, in der eine Viererwette mit einer garantierten Auszahlung von 20.000 Euro für Spannung sorgt. \nVon den insgesamt 85 Pferden\, die am Pfingstmontag auf der Neuen Bult in die Startmaschine einrücken\, werden 14 vor Ort auf der Trainingsanlage vorbereitet. Bohumil Nedorostek und Christian Sprengel satteln jeweils fünf Starter\, Carmen Bocskai drei und Janina Reese zwei. Die besten Chancen auf einen Volltreffer hat der starke dreijährige Pompeo Dream in dem Vereinigte Tierversicherung – Cup\, dem 2. Rennen. \nNeben den sportlichen Highlights erwartet die Besucher beim Renntag der Hannoverschen Volksbank ein buntes Familienprogramm: \nEin echtes Highlight ist das Live-Konzert von Kinderstar Volker Rosin\, welches für beste Stimmung sorgt. Außerdem gibt es eine Autogrammstunde mit den Recken\, einen Steckenrennpferde-Bastelwettbewerb\, ein Ponyrennen mit Kindertombola\, ein großes Kinderland mit vielen Spiel- und Mitmachaktionen sowie eine große Verlosungsaktion der Hannoverschen Volksbank. \nKinder bis 12 Jahre erhalten freien Eintritt. Tickets sind online für 12€ oder am Renntag an den Tageskassen für 14€ erhältlich (Ermäßigungen für Schüler\, Studierende etc.). \nHier geht es zu den Tickets \nDas Rennprogramm/die Ergebnisse\n\n\n\n \n01. Mittelstands-Trophy der Hannoverschen Volksbank – 2.400m\, 8.000 EUR\n02. Vereinigte Tierversicherung-Cup – 2.400m\, 10.000 EUR\n03. Die RECKEN-Trophy – 1.600m\, 10.000 EUR\n04. Wir machen den Weg frei-Cup – Stutenrennen\, 2.000m\, 10.000 EUR\n05. DZ PRIVATBANK-Cup – Agl.III\, 2.000m\, 8.000 EUR\n06. Großer Preis der Hannoverschen Volksbank – Steher Cup – L. – 3.000m\, 25.000 EUR\n07. R+V-Trophy – Agl.IV\, 1.600m\, 6.150 EUR (VIERERWETTE)\n08. DIGITAL4TRESS Cybersecurity-Cup – 1.900m\, 5.000 EUR\n09. Preis der Genossenschaftlichen FinanzGruppe – Agl.IV\, 2.400m\, 6.000 EUR\n10. pferdewetten.de-Cup – Agl.III\, 1.400m\, 8.000 EUR \nNastaria gewinnt den Großen Preis der Hannoverschen Volksbank – Heimsieg durch Adio\n\n\n\n\n \n16.000 Zuschauer erlebten am heutigen Pfingstmontag auf der Neuen Bult den Renntag der Hannoverschen Volksbank – mit zehn spannenden Galopprennen und einem abwechslungsreichen Rahmenprogramm. \nIm Mittelpunkt stand der Große Preis der Hannoverschen Volksbank – Steher-Cup\, ein mit 25.000 Euro dotiertes Listenrennen über die weite Distanz von 3.000 Metern. Eine altbekannte Stute setzte sich erneut durch: Nastaria\, die diese Prüfung bereits vor zwei Jahren gewann\, zeigte auch diesmal ihren sechs Gegnern die Hufe. Die an der Ostsee von Anna Schleusner-Fruhriep trainierte Stute übernahm auf der Zielgeraden die Führung von dem lange vorne gehenden Padre Palou\, der jedoch nicht kampflos aufgab. Der favorisierte Waldadler versuchte\, zwischen den beiden eine Lücke zu finden – vergeblich. \nAn der Spitze kämpften zwei der dienstältesten Jockeys Deutschlands: Der 54-jährige Jozef Bojko\, auf der Neuen Bult tätig\, und der 55-jährige Niederländer Adrie de Vries. „Ich freue mich wie verrückt“\, sagte die Siegtrainerin nach dem Rennen. „Nastaria hat’s mal wieder bewiesen: ihre Distanz\, ihre Bahn.“ \nAdrie de Vries dominierte bereits die ersten beiden Saisonrenntage auf der Neuen Bult mit mehreren Siegen. Auch an diesem Montag war er zweimal erfolgreich. Zwei Siege gelangen zudem Eduardo Pedroza und Martin Seidl sowie den Trainern Andreas Wöhler und Waldemar Hickst. \nFür einen umjubelten Heimsieg sorgte im Preis der Genossenschaftlichen FinanzGruppe der von Bohumil Nedorostek trainierte Adio\, der seinen zehn Gegnern auf der Zielgeraden deutlich davonlief. Im Sattel saß Stalljockey David Liska. Adio läuft in den Farben des traditionsreichen Club Neue Bult e. V.\, gegründet im Jahr 1975. Trainer Nedorostek legte direkt nach: Auch die Abschlussprüfung konnte er für sich entscheiden – mit Night Star unter Corentin Berge\, einem weiteren auf der Neuen Bult tätigen Jockey. \nIn den zehn Rennen wurden insgesamt 318.530\,82 Euro umgesetzt. \nWeiter geht es bereits am Freitag\, dem 20. Juni ab 15:30 Uhr. Beim After-Work-Renntag der Bauwirtschaft erwarten die Besucher spannende Rennen – darunter ein Ausgleich I\, die „Bundesliga“ des Galopprennsports.
URL:https://www.neuebult.de/renntermine/familienrenntag-juni/
CATEGORIES:2025
ATTACH;FMTTYPE=image/jpeg:https://www.neuebult.de/wp-content/uploads/2025/01/240520D329HANNOVER.jpg
END:VEVENT
END:VCALENDAR