BEGIN:VCALENDAR
VERSION:2.0
PRODID:-//Hannoverscher Rennverein - ECPv6.15.17.1//NONSGML v1.0//EN
CALSCALE:GREGORIAN
METHOD:PUBLISH
X-ORIGINAL-URL:https://www.neuebult.de
X-WR-CALDESC:Veranstaltungen für Hannoverscher Rennverein
REFRESH-INTERVAL;VALUE=DURATION:PT1H
X-Robots-Tag:noindex
X-PUBLISHED-TTL:PT1H
BEGIN:VTIMEZONE
TZID:Europe/Berlin
BEGIN:DAYLIGHT
TZOFFSETFROM:+0100
TZOFFSETTO:+0200
TZNAME:CEST
DTSTART:20240331T010000
END:DAYLIGHT
BEGIN:STANDARD
TZOFFSETFROM:+0200
TZOFFSETTO:+0100
TZNAME:CET
DTSTART:20241027T010000
END:STANDARD
BEGIN:DAYLIGHT
TZOFFSETFROM:+0100
TZOFFSETTO:+0200
TZNAME:CEST
DTSTART:20250330T010000
END:DAYLIGHT
BEGIN:STANDARD
TZOFFSETFROM:+0200
TZOFFSETTO:+0100
TZNAME:CET
DTSTART:20251026T010000
END:STANDARD
BEGIN:DAYLIGHT
TZOFFSETFROM:+0100
TZOFFSETTO:+0200
TZNAME:CEST
DTSTART:20260329T010000
END:DAYLIGHT
BEGIN:STANDARD
TZOFFSETFROM:+0200
TZOFFSETTO:+0100
TZNAME:CET
DTSTART:20261025T010000
END:STANDARD
END:VTIMEZONE
BEGIN:VEVENT
DTSTART;TZID=Europe/Berlin:20250620T150000
DTEND;TZID=Europe/Berlin:20250620T200000
DTSTAMP:20260425T125739
CREATED:20241024T195351Z
LAST-MODIFIED:20250706T073430Z
UID:26104-1750431600-1750449600@www.neuebult.de
SUMMARY:After Work-Renntag der Bauwirtschaft
DESCRIPTION:Den sonnigen Feierabend auf der Rennbahn ausklingen lassen – dieses seit Jahren beliebte Motto lässt sich am kommenden Freitag auf der Neuen Bult wieder in die Tat umsetzen. Was könnte schöner sein\, als bei sommerlichem Wetter nach Feierabend die besondere Atmosphäre von neun spannenden Galopprennen zu genießen? Zumal auch ein abwechslungsreiches kulinarisches Angebot beim After Work-Renntag der Bauwirtschaft auf die Besucher wartet. Beginn ist um 15:30 Uhr\, das erste Rennen startet um 16:30 Uhr. \nHöhepunkt des Tages ist die Hargassner-Trophy\, ein mit 20.000 Euro dotierter Ausgleich I über die lange Distanz von 2.800 Metern – die Bundesliga des Galopprennsports. Sieben Pferde treten in dieser Top-Prüfung an. Das Höchstgewicht trägt Nastaria\, trainiert von Anna Schleusner-Fruhriep\, die das Hauptrennen beim letzten Renntag auf der Neuen Bult gewann. Jozef Bojko sitzt erneut im Sattel\, doch mit 62\,5 Kilo ist die Aufgabe anspruchsvoll. Eine spannende Gegnerin könnte Kalia sein\, nun im Training bei Ex-Jockey Andreas Helfenbein. Sie ist in dieser Saison noch ungeschlagen und steht 9\,5 Kilo günstiger im Gewicht. Mit Alexander Pietsch reitet ein weiterer Routinier. Chancen auf einen Heimsieg hat Atlantica\, trainiert von Carmen Bocskai. Die Stute aus dem Gestüt Brümmerhof wird von Corentin Berge geritten\, müsste jedoch ihre bisherigen Jahresleistungen steigern. \nIm 5. Rennen\, dem BBK-Bau Cup\, kann bei dieser Veranstaltung einmalig die Viererwette gespielt werden – mit einer Garantieauszahlung von 10.000 Euro ein Highlight für alle Wettfreunde. \nVon den insgesamt 85 startenden Pferden an diesem Freitag werden 18 direkt auf der Neuen Bult trainiert. Bohumil Nedorostek sattelt sieben Starter\, Christian Sprengel fünf\, Carmen Bocskai vier und Janina Reese zwei. Die besten Chancen auf einen Treffer dürfte im Germerott-Cup (7. Rennen) der Nedorostek-Dreijährige Adio haben\, der bereits am Pfingstmontag mit einem souveränen Sieg die Mitglieder des traditionsreichen Club Neue Bult e.V. jubeln ließ. \nNeben den sportlichen Highlights dürfen sich die Besucher auf ein Kinderland\, eine Kindertombola mit tollen Preisen\, die beliebte Wettnieten-Verlosung\, sommerliche Temperaturen und eine entspannte After Work-Atmosphäre in unserer Aperol Lounge freuen. \nTickets können online zum Preis von 12\,00 Euro oder am Renntag an den Tageskassen zum Preis von 14\,00 Euro (Ermäßigungen für Schüler\, Studenten etc.) erworben werden. Kinder bis 12 Jahre erhalten freien Eintritt. Das Parken ist an diesem Renntag kostenfrei. \nDas Rennprogramm/Die Ergebnisse\n\n\n\n\n \n01. Farben & Fliesen Galopp\, 1.400m\, 10.000 EUR\n02. Hanebutt-Tessmer-Rennen\, Agl.III\, 1.600m\, 10.000 EUR\n03. Tokarski & Gremmel-Trophy\, Stutenrennen\, 1.600m\, 10.000 EUR\n04. KONE Cup\, 2.000m\, 10.000 EUR\n05. BBK-Bau Cup\, Agl.III\, 2.000m\, 10.250 EUR (VIERERWETTE)\n06. Hargassner-Trophy\, Agl.I\, 2.800m\, 20.000 EUR\n07. Germerott-Cup\, Agl.IV\, 2.200m\, 8.000 EUR\n08. Gesundheitstechnik Carl Oettinger-Cup\, Agl.IV\, 1.750m\, 8.000 EUR\n09. Hagedorn Cup 2025\, Agl.IV\, 1.400m\, 8.000 EUR \n\n\n\n\nNastaria gewinnt erneut das Highlight des Renntags – Drei Siege für das Neue-Bult-Team Bohumil Nedorostek/David Liska\n \nDer After Work-Renntag der Bauwirtschaft lockte am Freitagabend 3.400 Zuschauer auf die Galopprennbahn Neue Bult. In entspannter Atmosphäre sorgten neun Rennen für spannende Unterhaltung bei sonnigem Feierabend-Wetter. \nDer Höhepunkt des Tages war die Hargassner-Trophy\, ein Ausgleich I über die lange Distanz von 2.800 Metern – die Bundesliga des Galopprennsports. Unter Höchstgewicht triumphierte die von Anna Schleusner-Fruhriep in Ostseenähe trainierte Bahnspezialistin Nastaria in dieser mit 20.000 Euro dotierten Prüfung. Bereits am Pfingstmontag hatte sie das Hauptrennen gewonnen. Damals wie heute saß der auf der Neuen Bult tätige Jozef Bojko im Sattel der sechsjährigen Stute. „Das ist ein Ausnahmepferd – sie macht alles perfekt“\, lobte er im Siegerinterview. Knapp geschlagen wurde die lange kämpfende Kalia Zweite\, den dritten Platz belegte Lion’s Head im siebenköpfigen Feld. \n \nBereits im zweiten Rennen des Tages feierte das Team Bohumil Nedorostek/David Liska den ersten von drei Siegen: Sturm holte einen Start-Ziel-Heimsieg. Im Germerott-Cup siegte Adio aus dem Club Neue Bult e. V. – ebenso wie Nastaria ein Wiederholungssieger vom Pfingstmontag. In der Abschlussprüfung triumphierte Winterweide. Zuvor hatte Calissa\, trainiert von Carmen Bocskai\, für einen weiteren Heimerfolg gesorgt. \nInsgesamt wurden in den neun Rennen 177.876\,70 Euro umgesetzt. \nWeiter geht’s nach der Sommerpause: \nAm 24. August steht mit dem Audi Ascot-Renntag das gesellschaftliche Highlight des Jahres bevor. Zahlreiche prominente Gäste aus Sport\, Wirtschaft\, Politik\, Kultur und Showbusiness haben sich angekündigt. Besucherinnen und Besucher dürfen sich auf ein großes Mitmachprogramm für Kinder und Erwachsene freuen. \nBildergalerien und Rennfilme\nHier geht es zu den Bildergalerien \nHier geht es zu den Rennfilmen
URL:https://www.neuebult.de/renntermine/afterwork-renntag-bauwirtschaft/
CATEGORIES:2025
ATTACH;FMTTYPE=image/jpeg:https://www.neuebult.de/wp-content/uploads/2022/06/180521D354HANNOVER-1.jpg
END:VEVENT
END:VCALENDAR