BEGIN:VCALENDAR
VERSION:2.0
PRODID:-//Hannoverscher Rennverein - ECPv6.15.17.1//NONSGML v1.0//EN
CALSCALE:GREGORIAN
METHOD:PUBLISH
X-WR-CALNAME:Hannoverscher Rennverein
X-ORIGINAL-URL:https://www.neuebult.de
X-WR-CALDESC:Veranstaltungen für Hannoverscher Rennverein
REFRESH-INTERVAL;VALUE=DURATION:PT1H
X-Robots-Tag:noindex
X-PUBLISHED-TTL:PT1H
BEGIN:VTIMEZONE
TZID:Europe/Berlin
BEGIN:DAYLIGHT
TZOFFSETFROM:+0100
TZOFFSETTO:+0200
TZNAME:CEST
DTSTART:20250330T010000
END:DAYLIGHT
BEGIN:STANDARD
TZOFFSETFROM:+0200
TZOFFSETTO:+0100
TZNAME:CET
DTSTART:20251026T010000
END:STANDARD
BEGIN:DAYLIGHT
TZOFFSETFROM:+0100
TZOFFSETTO:+0200
TZNAME:CEST
DTSTART:20260329T010000
END:DAYLIGHT
BEGIN:STANDARD
TZOFFSETFROM:+0200
TZOFFSETTO:+0100
TZNAME:CET
DTSTART:20261025T010000
END:STANDARD
BEGIN:DAYLIGHT
TZOFFSETFROM:+0100
TZOFFSETTO:+0200
TZNAME:CEST
DTSTART:20270328T010000
END:DAYLIGHT
BEGIN:STANDARD
TZOFFSETFROM:+0200
TZOFFSETTO:+0100
TZNAME:CET
DTSTART:20271031T010000
END:STANDARD
END:VTIMEZONE
BEGIN:VEVENT
DTSTART;TZID=Europe/Berlin:20260501T120000
DTEND;TZID=Europe/Berlin:20260501T170000
DTSTAMP:20260424T202809
CREATED:20251024T060141Z
LAST-MODIFIED:20260420T144933Z
UID:32035-1777636800-1777654800@www.neuebult.de
SUMMARY:Hannover 96-Renntag
DESCRIPTION:Traditionsgemäß geht es am 1. Mai auf der Neuen Bult mit dem Hannover 96-Renntag in das neue Rennjahr. Sportlich werden an diesem Renntag zwei mit 30.000 Euro dotierte Listenrennen und ein Ausgleich I\, der mit 20.000 Euro dotiert sein wird\, im Mittelpunkt stehen. Bei den Listenrennen handelt es um den Hannoverschen Stutenpreis über 2.000 Meter für vierjährige und ältere Stuten\, sowie um den Sprint Preis\, der für die Dreijährigen aufwärts über 1.300 Meter ausgeschrieben wurde. Insgesamt werden an diesem Renntag neun Rennen zur Austragung kommen. \nUnd dann ist da natürlich noch das Team von Hannover 96\, das sich bei einigen Showeinlagen einbringen wird. Die Roten und ihr Betreuerstab freuen sich bereits jetzt auf dieses besondere Event. Natürlich wird das komplette Team auf der Neuen Bult vertreten sein und Selfie- und Autogrammwünsche ihrer Fans erfüllen. \nLassen Sie sich diesen Renntag\, der alljährlich für Zuschauerrekorde sorgt und eine besondere Symbiose zwischen Galoppsport und Fußball markiert\, nicht entgehen! \nHier geht es zu den Tickets
URL:https://www.neuebult.de/renntermine/hannover-96-renntag-2/
CATEGORIES:2026
ATTACH;FMTTYPE=image/jpeg:https://www.neuebult.de/wp-content/uploads/2022/03/E.01-Exklusiv-Sponsor-oben-07.jpg
END:VEVENT
END:VCALENDAR