BEGIN:VCALENDAR
VERSION:2.0
PRODID:-//Hannoverscher Rennverein - ECPv6.15.17.1//NONSGML v1.0//EN
CALSCALE:GREGORIAN
METHOD:PUBLISH
X-ORIGINAL-URL:https://www.neuebult.de
X-WR-CALDESC:Veranstaltungen für Hannoverscher Rennverein
REFRESH-INTERVAL;VALUE=DURATION:PT1H
X-Robots-Tag:noindex
X-PUBLISHED-TTL:PT1H
BEGIN:VTIMEZONE
TZID:Europe/Berlin
BEGIN:DAYLIGHT
TZOFFSETFROM:+0100
TZOFFSETTO:+0200
TZNAME:CEST
DTSTART:20230326T010000
END:DAYLIGHT
BEGIN:STANDARD
TZOFFSETFROM:+0200
TZOFFSETTO:+0100
TZNAME:CET
DTSTART:20231029T010000
END:STANDARD
BEGIN:DAYLIGHT
TZOFFSETFROM:+0100
TZOFFSETTO:+0200
TZNAME:CEST
DTSTART:20240331T010000
END:DAYLIGHT
BEGIN:STANDARD
TZOFFSETFROM:+0200
TZOFFSETTO:+0100
TZNAME:CET
DTSTART:20241027T010000
END:STANDARD
BEGIN:DAYLIGHT
TZOFFSETFROM:+0100
TZOFFSETTO:+0200
TZNAME:CEST
DTSTART:20250330T010000
END:DAYLIGHT
BEGIN:STANDARD
TZOFFSETFROM:+0200
TZOFFSETTO:+0100
TZNAME:CET
DTSTART:20251026T010000
END:STANDARD
END:VTIMEZONE
BEGIN:VEVENT
DTSTART;TZID=Europe/Berlin:20240809T150000
DTEND;TZID=Europe/Berlin:20240809T210000
DTSTAMP:20260426T031949
CREATED:20250123T180105Z
LAST-MODIFIED:20250123T180105Z
UID:19468-1723215600-1723237200@www.neuebult.de
SUMMARY:After Work-Renntag
DESCRIPTION:After Work-Renntag: Volles Programm und Wettchance des Tages mit 10.000 Euro Garantieauszahlung\n\nAuf der Neuen Bult bekommen am kommenden Freitag (9. August) nicht nur Pferdesportbegeisterte das Komplettpaket\, um in den Feierabend zu starten und das Wochenende einzuläuten: Genießen Sie beim After Work-Renntag einen lauen Sommerabend\, entspannen Sie im Kreise von Freunden und der Familie\, gönnen Sie sich kühle Drinks & leckere Snacks\, haben Spaß im Kinderland\, bei der Kindertombola sowie der Wettnietenverlosung mit tollen Preisen. \nDas sportliche Programm umfasst 11 Rennen mit jeder Menge Basissport\, Prüfungen für den Dreijährigenjahrgang und Handicaps\, bei denen es insgesamt um eine Dotierung von mehr als 80.000 Euro geht. Es bieten sich viele lukrative Wettchancen und die Möglichkeit\, einen der vierbeinigen Stars von Morgen zu entdecken. \nHöhepunkt der Karte ist der PLUTA Racing-Cup\, ein Ausgleich II über 2200 Meter\, in dem acht Pferde an den Start kommen. Darunter der vierfache Saisonsieger Schael aus dem Kölner Stall von Championtrainer Peter Schiergen. Eine starke Opposition wird es durch die dreijährige Stute Olympia\, die Andreas Wöhler in Gütersloh für Jaber Abdullah trainiert oder den frischen Sieger Macun\, aus dem Stall von Dominik Moser geben. \nGroße Beachtung wird auch die Hagedorn-Trophy finden\, die sich an dreijährige sieglose Pferde über 2200 Meter richtet. Mit Aturana wird sich in dieser Prüfung eine Halbschwester von Gruppesieger Assistent vorstellen. Ein Spaziergang sollte es für die Stute wohl kaum werden\, denn mit der Sea The Stars-Tochter Santa Sofia und der Waldgeist-Tochter Recovery wird sie auf ähnlich prominent gezogene Konkurrenz treffen. 15 hoffnungsvolle Youngster werden in diesem Rennen für ein großes Starterfeld und Wetträtsel sorgen. \nAuch die hiesigen Trainer werden an diesem Renntag mit einigen Startern vertreten: Darunter Janina Reese\, die mit Frinton (Wladimir Panov) im Tokarski-Cup gute Chancen haben sollte. \nWettfans aufgepasst: Im 7. Rennen\, dem Gesundheitstechnik Carl Oettinger-Cup\, einem Ausgleich IV über 2.000 Meter\, wird die Wettchance mit einer garantierten Gewinnauszahlung von 10.000 Euro ausgespielt. \nBeginn des Renntages ist 15:00 Uhr. Der Start zum ersten Rennen erfolgt um 15:45 Uhr. \nKinder bis 12 Jahre erhalten freien Eintritt. Tickets können online zum Preis von 12\,00 Euro oder am Renntag an den Tageskassen zum Preis von 14\,00 Euro (Ermäßigungen für Schüler\, Studenten etc.) erworben werden. Das Parken ist an diesem Renntag frei. (06.08.2024/wis) \n\nDas Rennprogramm/die Ergebnisse zum After Work-Renntag\n\n\n\n01. Hanebutt-Tessmer-Rennen – EBF (D)\, 1.300m\, 10.000 EUR\n02. Farben & Fliesen Galopp – (D)\, 1.400m\, 8.000 EUR\n03. DORNIEDEN Projektentwicklung-Trophy – (D)\, 1.750m\, 8.000 EUR\n04. Hagedorn-Trophy – (D)\, 2.200m\, 8.000 EUR\n05. Hargassner-Trophy – Agl.III (D)\, 2.200m\, 8.000 EUR\n06. PLUTA Racing Cup 2024 – Agl.II (C)\, 2.200m\, 11.500 EUR\n07. Gesundheitstechnik Carl Oettinger-Cup – Agl.IV (E)\, 2.000m\, 6.150 EUR (VIERERWETTE)\n08. DUENSING-Cup – (F)\, 1.400m\, 5.000 EUR\n09. Champion des Schornsteinfegerhandwerks – Agl.III (D)\, 1.600m\, 8.000 EUR\n10. Germerott-Cup – Agl.IV (E)\, 1.300m\, 6.000 EUR\n11. Tokarski-Cup – (E)\, 1.750m\, 5.000 EUR \n\n\n\n\nLet`s Attack glänzt bei Nedorostek-Heimsieg – Renntag nach dem 5. Rennen abgebrochen\n \nMit einem lachenden und einem weinenden Auge blickt der Hannoversche Rennverein e. V. auf den vergangenen After Work-Renntag zurück\, der am Freitag\, 9. August 2024\, ein spannendes Galoppsportwochenende einläuten sollte. Aufgrund des einsetzenden Regens hatten sich in den Bögen rutschige Stellen gebildet\, die dafür sorgten\, dass der Renntag leider nach dem fünften Rennen nach eingehender Prüfung der Rennbahnkomission abgebrochen werden musste\, um die Sicherheit von Pferden und Reitern gewährleisten zu können. „Seit Jahren haben wir in Hannover das beste Geläuf in Deutschland. Wir haben uns die Stellen angesehen und ich als Präsident der Besitzer und Züchter stehe für Tierwohl\, und das ist für uns das Wichtigste. Wir gehen absolut kein Risiko ein“\, erklärte Gregor Baum\, Präsident des Hannoverschen Rennvereins e. V. Geplant waren 11 Rennen mit einer Gesamtdotierung von insgesamt mehr als 80.000 Euro Preisgeldern sowie der Möglichkeit\, mit tollem Sport in den Feierabend zu starten. \nVor allem der Basissport sowie die Rennen für die Zwei- und Dreijährigen sollte an diesem After Work-Renntag viele lukrative Wettchancen und die Möglichkeit\, einen der Stars von Morgen zu entdecken\, bieten. Dies könnte nicht nur den 3.500 Zuschauern auf der Bahn auch gleich im ersten Rennen gelungen sein\, als der von Bult-Trainer Bohumil Nedorostek trainierte Let’s Attack gleich bei seinem ersten Rennbahnauftritt die Maidenschaft ablegen konnte. Bei diesem Heimsieg des im Besitz des Gestüt Karlshof stehenden zweijährigen Hengstes bewies Bohumil Nedorostek wieder einmal ein gutes Gespür für seine Youngster\, denn erst vor Kurzem hatte er verraten\, dass es sich bei dem Counterattack-Sohn um den Hoffnungsträger seines Stalles in dieser Altersklasse handelt. „Es war schon früh klar\, dass wir gewinnen\, die Frage war nur\, mit viel Vorsprung“\, fand auch Jockey Thore Hammer-Hansen\, der in diesem Jahr das Deutsche Derby in Hamburg gewinnen konnte. Ein Wiedersehen mit Let’s Attack könnte es nun schon im Badener Jugendpreis geben\, für den der Fuchs nachgenannt werden könnte\, wie Holger Faust\, Racing Manager des Gestüt Karlshof\, nach dem Sieg verriet. Dieses eindrucksvolle Debüt untermauerte erneut\, dass auf der Neuen Bult auch für das Training der Pferde bestmögliche Bedingungen gewährleistet werden\, die besten Galopper des Landes zu trainieren. Ihrer Favoritenrolle wurde übrigens Markus Klugs Aturana gerecht\, die im Rennen für die Dreijährigen\, wie bereits angekündigt\, als Halbschwester von Gruppesieger Assistent einen guten Eindruck hinterließ. Das hochwertigste Handicap des Tages\, ein Ausgleich III über 2.200 Meter\, ging an die von Dr. Andreas Bolte trainierte vierjährige Stute Oak Ivy\, die damit gleich den dritten Sieg in Serie einfahren konnte. Auch sie sollten Rennsportfans in Zukunft im Auge behalten. \nIn den fünf Rennen wurden 70.307\,74 Euro umgesetzt. \nRennfilme\n\n\n01. Hanebutt-Tessmer-Rennen – EBF (D)\, 1.300m\, 10.000 EUR\, Boden: gut\n02. Farben & Fliesen Galopp – (D)\, 1.400m\, 8.000 EUR\, Boden: gut\n03. DORNIEDEN Projektentwicklung-Trophy – (D)\, 1.750m\, 8.000 EUR\, Boden: gut\n04. Hagedorn-Trophy – (D)\, 2.200m\, 8.000 EUR\, Boden: gut\n05. Hargassner-Trophy – Agl.III (D)\, 2.200 m\, 8.000 EUR\, Boden: gut \nBildergalerien\nDie Bildergalerien zum After Work-Renntag
URL:https://www.neuebult.de/renntermine/4-renntag-2/
CATEGORIES:2024
ATTACH;FMTTYPE=image/jpeg:https://www.neuebult.de/wp-content/uploads/2023/05/230501D949HANNOVER.jpg
END:VEVENT
BEGIN:VEVENT
DTSTART;TZID=Europe/Berlin:20240818T123000
DTEND;TZID=Europe/Berlin:20240818T184500
DTSTAMP:20260426T031949
CREATED:20250123T180105Z
LAST-MODIFIED:20250123T180105Z
UID:19471-1723984200-1724006700@www.neuebult.de
SUMMARY:Audi Ascot-Renntag
DESCRIPTION:Audi Ascot-Renntagmit großem Galoppsport und vielen Ehrengästen\n\n\nDer rote Teppich wird ausgerollt: Am 18. August 2024 lädt der Hannoversche Rennverein e. V. unter dem Motto „Eleganz & Geschwindigkeit“ zum diesjährigen Audi Ascot-Renntag. Hierbei handelt es sich um DAS Society-Event in der Niedersächsischen Landeshauptstadt\, und ist sowohl sportlicher als auch gesellschaftlicher Saisonhöhepunkt auf der Galopprennbahn Neue Bult. \nBesucherinnen und Besucher können sich auf den bewährten Dreiklang aus Spannung\, Sport und Promis freuen – unter anderem haben sich Choreograf und Model Bruce Darnell\, Ur-Bachelor Paul Janke\, Entertainer Julian F. M. Stoeckl\, Nele Ludowig angekündigt. \n„Der Audi Ascot-Renntag ist der gesellschaftliche Höhepunkt des Rennjahres und gleichzeitig ein Fest für die ganze Familie\, für Alt und Jung“\, sagt Gregor Baum\, Präsident des Hannoverschen Rennvereins. „Wir freuen uns sehr darauf\, wieder möglichst viele Zuschauer auf der Neuen Bult begrüßen zu dürfen!“ \n \nInsgesamt stehen beim Audi Ascot-Renntag 10 Rennen auf der Karte. Um 13.40 Uhr startet das erste\, um voraussichtlich 18.45 Uhr das letzte Rennen. Der Höhepunkt des Renntages ist der mit 52.000 Euro dotierte Große Preis des Audi Zentrum Hannover\, der als BBAG Auktionsrennen für die Dreijährigen entschieden wird. Elf Teilnehmer werden sich an der 2.000 Meter-Startstelle einfinden.  Am höchsten eingeschätzt werden Roland Dzubaszs Va Bene\, der schon in den gehobenen Handicaps unterwegs war\, sowie Lamington aus dem Stall von Andreas Wöhler\, der sich bereits mit einer Platzierung in einem Auktionsrennen auszeichnen konnte. Gerald Geislers Tanami Starlet reist eigens aus Baden-Baden an\, um bei diesem Highlight dabei zu sein. Als Referenz bringt er gute Formen aus Frankreich mit nach Hannover. \nDer mit 25.000 Euro dotierte Preis von Volkswagen Automobile Hannover hat sportlich ebenfalls einen großen Stellenwert. Das Rennen wird als Listenrennen für Stuten über 2.400 Meter ausgetragen. Zehn Ladies werden in dieser Prüfung an den Start kommen. Zum engsten Favoritenkreis werden Lydia aus dem Quartier von Waldemar Hickst\, Carmen Bocskais Techno Beat und Namouria gehören. Letztgenannte wird von Waldemar Hickst in Köln für das Gestüt Brümmerhof trainiert. Mit Gambia Sun reist eine Stute aus dem Münchener Quartier von Michael Figge an\, die in besseren Aufgaben in Frankreich siegreich war. Rechnungsfavoritin wird nach der Einschätzung ihrer bisherigen Rennleistung allerdings die Lokalmatadorin Wedding in May sein\, die von Bohumil Nedorostek betreut wird. Mit Eduardo Pedroza im Sattel wird sie versuchen\, den Sieg auf der Neuen Bult zu halten. \n\n\n \nMindestens ebenso spannend wie die Rennen ist das Sehen- und Gesehenwerden: Angelockt vom einmaligen Flair des Events\, sind jedes Jahr aufs Neue zahlreiche prominente Gesichter beim Audi Ascot-Renntag zu Gast. Neben Promis aus Hannover und der Region geben sich viele TV Stars und Sternchen aus dem gesamten Bundesgebiet die Ehre. Erwartet werden zudem zahlreiche Ehrengäste aus Politik\, Wirtschaft\, Kultur\, Sport sowie dem Musik- und Showbiz. \n\n\nDie Besucherinnen und Besucher erwartet beim Audi Ascot-Renntag ein vielfältiges Rahmenprogramm: So dürfen sie sich auf den beliebten Lady Elegance-Wettbewerb freuen\, der in den Vorjahren zum heimlichen Höhepunkt des Tages avancierte. Gekürt werden die elegantesten Outfits der Damen. Jede der teilnehmenden Damen erhält ein Überraschungspaket mit BK by Barbara Klein-Schönheitsprodukten im Wert von ca. 100 Euro sowie einen Gutschein “Zwei Eintrittskarten zum Preis von einer” des Staatstheater Hannovers. Die drei Damen\, deren Outfits der Jury am meisten Freude bereiten\, erhalten exklusive Preise vom Audi Zentrum Hannover\, vom Juwelier Niessing sowie von aptum im Gesamtwert von über 3.500 Euro. \nSowohl für das Auge als auch für das Herz sind die Kreationen\, die beim Kinderhut-Bastelwettbewerb entstehen und im Absattelring präsentiert werden. Auch hier belohnt eine prominent besetzte Jury die schönsten Kreationen mit tollen Preisen. Jeder kann mitmachen. Nicht nur für die großen Galoppsportfans wird somit einiges geboten. Zudem kommen die Kleinsten auch im großen Kinderland auf ihre Kosten. Unzählige Aktionen laden zum Mitmachen und Spaßhaben ein. \nNeben Pferden\, Jockeys\, Stars und Sternchen stehen ganz besonders die Outfits – speziell natürlich die Hüte – der Damen im Rampenlicht. Damen mit Hut genießen daher freien Eintritt\, ebenso Kinder bis 12 Jahre. Tickets sind vorab online zum Preis von zwölf Euro oder am Renntag an der Tageskasse zum Preis von 14 Euro erhältlich. Start des Events ist um 12.30 Uhr\, der Einlass beginnt um 11.30 Uhr. \n\nDas Rennprogramm/die Ergebnisse zum Audi Ascot-Renntag\n\n \n\n01. Preis der Unternehmensberatung i-unit group – (D)\, 1.750m\, 10.000 EUR\n02. Göddert Sybrecht-Erinnerungsrennen – Stuten (D)\, 2.000m\, 8.000 EUR\n03. BRANDI-Cup – Agl.IV (E)\, 2.000m\, 8.000 EUR\n04. Preis von Volkswagen Automobile Hannover – L. – Stuten (A)\, 2.400m\, 25.000 EUR\n05. aptum-Trophy – Agl.III (D)\, 1.750m\, 10.000 EUR\n06. Großer Preis des Audi Zentrum Hannover – BBAG Auktionsrennen (C)\, 2.000m\, 52.000 EUR\n07. steinhoff-Cup – Agl.IV (E)\, 1.600m\, 8.200 EUR (VIERERWETTE)\n08. Preis der Deutschen Bank AG – Agl.II (C)\, 1.750m\, 15.000 EUR\n09. Warsteiner Cup – Agl.III (D)\, 2.400m\, 10.000 EUR\n10. LO&GO – Der Herrenausstatter Trophy – Agl.IV (E)\, 2.800m\, 8.000 EUR \n\n\nAttraktionen am Audi Ascot-Renntag\n \n  \n\n13:45 – 14:30 Uhr \nMeet & Greet \nmit Julian F.M. Stöckel & Nele Ludowig (auf dem Vorplatz am Haupteingang) \n14:00 – 15:00 Uhr \nAutogrammstunde \nmit Bruce Darnell (auf dem Vorplatz am Haupteingang) \n15:15 – 15:45 Uhr \nKinderhut-Bastelwettbewerb \nPrämierung der schönsten selbstgebastelten Hüte durch eine Prominente Jury (nach dem 4. Rennen bei der Siegerehrung im Absattelring) \n16:30 Uhr \nLady Elegance-Wettbewerb \nPrämierung der elegantesten Outfits unter den Besucherinnen durch eine prominente Jury um Bruce Darnell (nach dem 6. Rennen bei der Siegerehrung im Absattelring) \n18:20 Uhr \nLucky Loser Wettnietenverlosung \n(nach dem 9. Rennen bei der Siegerehrung im Absattelring) \n\nLady Elegance-Wettbewerb: Wir suchen das eleganteste Outfit unter den Besucherinnen!\n \n\nEine prominent besetzte Jury um Choreograf und Model Bruce Darnell wird aus dem Publikum ca. 40 Damen auswählen\, die nach dem 6. Rennen gegen 16:30 Uhr in den Absattelring auf den roten Teppich gebeten werden. Dort werden drei Damen gekürt\, deren Outfits der Jury am meisten Freude bereiten. \nJede der teilnehmenden Damen des Lady-Elegance Wettbewerbs erhält ein Überraschungspaket mit BK by Barbara Klein-Schönheitsprodukten im Wert von ca. 100 Euro sowie einen Gutschein „Zwei Eintrittskarten zum Preis von einer“ des Staatstheater Hannover. \n  \n1. Preis: \nStilvoll durch eine traumhafte Region. \nErleben Sie während einer 3-tägigen Tour ausgewählte Audi Top-Modelle\, genießen Sie ausgezeichnete Hotels und genießen Sie die wunderbare Kulinarik einer aus[1]gewählten Region im Wert von ca. 2.500 Euro. \n2. Preis: \nEinen Gutschein im Wert von 500 Euro für ein handgefertigtes Niessing-Schmuckstück\, einlösbar im Niessing Store Hannover. \n3. Preis: \nEin Gutschein in Höhe von 500 Euro für Bestia.Pizza\, sponsored by aptum. Die Pizzeria im Zentrum von Hannover\, wo man noch Echte NEAPOLITANISCHE PIZZA genießen kann – und das hat auch die Associazione Verace Pizza Napoletana bestätigt. Damit gehört Bestia zu den 7 Pizzerien in ganz Deutschland\, die echte neapolitanische Pizza kreiert. So ist man dem Urlaub in Italien ein Stück näher. \n  \nsponsored by \nAudi Zentrum Hannover \nNIESSING seit 1873 \naptum \nBK Barbara Klein \nSTAATSTHEATER Hannover \n\nKinderhut-Bastelwettbewerb\n \n\nWir suchen das Kind mit dem schönsten und kreativsten selbstgestalteten Hut! Ihr habt im Kinderland die Möglichkeit\, einen Strohhut nach eigenen Ideen zu gestalten. Euren Fantasien sind bei der Gestaltung Eures persönlichen „Ascot – Huts“ keine Grenzen gesetzt. Eine prominent besetzte Jury wird alle Kinder mit einem selbstgestalteten Hut nach dem 4. Rennen\, gegen 15:15 Uhr\, in den Absattelring auf den roten Teppich bitten. Dort werden fünf Kinder gekürt\, deren Hutkreation der Jury am meisten Freude bereitet. \n  \n1. und 2. Preis: \n\nEin LEGO T2 Volkswagen Camping Bus\n3 Stunden Spiel und Spaß im Sport- und Erlebnisbad der WASSERWELT LANGENHAGEN\nEine Kinder-Tageskarte für den Erlebnis-Zoo Hannover\nEine Freikarte für 4 Personen für den Freizeit- und Erlebnispark Rasti-Land\nEine Freikarte für das SEA LIFE Hannover\n\n3. Preis: \n\nEin LEGO T1 Volkswagen Camping Bus\n3 Stunden Spiel und Spaß im Sport- und Erlebnisbad der WASSERWELT LANGENHAGEN\nEine Kinder-Tageskarte für den Erlebnis-Zoo Hannover\nEine Freikarte für 4 Personen für den Freizeit- und Erlebnispark Rasti-Land\nEine Freikarte für das SEA LIFE Hannover\n\n4. Preis: \n\nEin Playmobil Volkswagen Beetle Special Edition\n3 Stunden Spiel und Spaß im Sport- und Erlebnisbad der WASSERWELT LANGENHAGEN\nEine Kinder-Tageskarte für den Erlebnis-Zoo Hannover\nEine Freikarte für 4 Personen für den Freizeit- und Erlebnispark Rasti-Land\nEine Freikarte für das SEA LIFE Hannover\n\n5. Preis: \n\nEin Playmobil Volkswagen Beetle\n3 Stunden Spiel und Spaß im Sport- und Erlebnisbad der WASSERWELT LANGENHAGEN\nEine Kinder-Tageskarte für den Erlebnis-Zoo Hannover\nEine Freikarte für 4 Personen für den Freizeit- und Erlebnispark Rasti-Land\nEine Freikarte für das SEA LIFE Hannover\n\n  \nAlle Kinder\, die mit einem selbstgestalteten Hut nach dem 4. Rennen in den Absattelring kommen\, erhalten ein Präsent. \nDie Preise und Präsente werden überreicht von Jens Bischoff\, Geschäftsführung Volks[1]wagen Automobile Hannover GmbH. \nTeilnahmeberechtigt sind Kinder bis einschließlich 15 Jahre. \n  \nsponsored by \nVolkswagen Automobile Hannover \nWASSERWLT LANGENHAGEN \nErlebniszoo Hannover \nRasti-Land \nSEA LIFE Hannover \n\nWettnietenverlosung „Lucky Loser“\n \n\nJeder Wettschein*\, der für die ersten neun Rennen am Totalisator abgegeben wird und nicht beim Rennen gewinnt\, kann Ihr Glückslos sein! Schreiben Sie Ihren Namen und Ihre Anschrift auf die Wettscheine und werfen diese in die Box am Führring. \nDie Ziehung der Gewinner erfolgt nach dem 9. Rennen im Absattelring bei der Siegehrung. Die Gewinner werden über Lautsprecher bekannt gegeben. Bitte haben Sie Verständnis dafür\, dass die Ziehung so lange erfolgt\, bis die drei Gewinner unter den Anwesenden ermittelt werden können. \n  \n1.Preis: \n\nEin Gutschein für zwei Eintrittskarten vom TSV Hannover-Burgdorf\n2 Tageskarten für die WASSERWELT LANGENHAGEN. Entspannung und Erholung in der Saunalandschaft mit großem Garten inklusive Nutzung des Sport- und Erlebnisbades der WASSERWELT LANGENHAGEN.\nZwei Eintrittskarten für das GOP Varieté–Theater Hannover\nEin Wettgutschein im Wert von 100 Euro\n\n2. und 3. Preis: \n\nEin Gutschein für zwei Eintrittskarten vom TSV Hannover-Burgdorf\n2 Tageskarten für die Sauna und das Sport-/Erlebnisbad für die WASSERWELT LANGENHAGEN. Entspannen und erholen im Sportbad\, Erlebnisbad und in der Saunalandschaft mit großem Garten der WASSERWELT LANGENHAGEN.\nZwei Eintrittskarten für das GOP Varieté–Theater Hannover\nEin Wettgutschein im Wert von 50 Euro\n\n  \n*Gültig sind nur Totalisatortickets vom Audi Ascot-Rentag. \nPro Teilnehmer ist nur ein Gewinn möglich. Der Rechtsweg ist ausgeschlossen. \n  \nsponsored by: \nDIE RECKEN \nGOP Varieté–Theater Hannover \nWASSERWELT LANGENHAGEN \n\nAudi Ascot-Renntag mit Elegance & Geschwindigkeit – Beide Hauptrennen gehen nach Iffezheim\nPromis\, Blitzlichtgewitter und schnelle Pferde: Unter dem Motto „Eleganz & Geschwindigkeit“ wurde auf der Galopprennbahn Neue Bult auch in diesem Jahr beim Audi Ascot-Renntag der rote Teppich ausgerollt. \nAm heutigen Sonntag (18. August 2024) war der Hannoversche Rennverein e. V. mit dem Audi Ascot-Renntag abermals Gastgeber des Society-Events der Niedersächsischen Landeshauptstadt\, das sowohl sportlicher als auch gesellschaftlicher Saisonhöhepunkt in Hannover-Langenhagen ist. Die Veranstaltung\, die weit über die Grenzen Hannovers hinaus bekannt ist\, lockte 7.800 Zuschauer an. Es galt Sehen- und Gesehenwerden mit jeder Menge Glanz und Glamour sowie Herzschlagentscheidungen bei zehn spannenden Galopprennen\, die großartige Sieger sahen. Neben Promis aus Hannover und Region gaben sich TV-Stars und Sternchen\, Politiker\, Wirtschaftskapitäne\, Celebrities\, aus Musik- oder Showbiz die Ehre. Zu Gast war Choreograf und Model Bruce Darnell\, Ur-Bachelor Paul Janke\, Entertainer Julian F. M. Stoeckl\, Nele Ludowig\, Sänger Jay Khan\, die Stil-Ikonen Britt Kanja und Günther Krabbenhöft\, Amir Hosseiny aus dem Bachelor-Imperium\, Schauspielerin und Influencerin Liza Waschke oder auch Magier Cody Stone. „Ich bin zwar ein Hamburger Jung\, habe aber drei Jahre in Hannover gelebt und war bereits vor zehn Jahren schon auf der Neuen Bult. Ich freue mich\, in meine alte Heimat zu kommen\, ich liebe Tiere\, ich liebe Pferde und bin gerne bei diesem Renntag zu Gast“\, fand Paul Janke\, der auch als Moderator und DJ deutschlandweit bekannt ist und der auf der Neuen Bult standesgemäß einige Rosen verteilte\, „Die Rosen haben mein Leben geprägt und es macht mir Spaß\, den Damen eine kleine Aufmerksamkeit zukommen zu lassen.“ \n \nWährend die Promis sich auf dem roten Teppich tummelten\, standen auf dem grünen Rasen die vierbeinigen Stars im Rampenlicht. Der mit 25.000 Euro dotierte Preis von Volkswagen Automobile Hannover war\, als ein sogenanntes Blacktype-Rennen\, das erste Highlight. In diesem Listenrennen über 2.400 Meter\, das sich an die Stuten richtete\, sah mit Kammuri Diamond eine Siegerin\, die aus Baden-Baden angereist war\, denn sie wird von Carmen Bocskai in Iffezheim trainiert. Im Sattel der Siegerin saß der französische Jockey Corentin Berge. Stall Blue Diamonds Kammuri Diamond setzte sich bei diesem Listensieg gegen Lydia aus dem Stall von Waldemar Hickst und Michael Figges Gambia Sun durch. Lokalmatadorin Wedding in May\, die von Bult-Trainer Bohumil Nedorostek ins Rennen geschickt wurde\, erreichte Platz fünf. „Kammuri Diamond hat mir schon als Fohlen gefallen und ich habe sie den Besitzern empfohlen“\, freute Carmen Bocskai nach diesem ersten Blacktype-Treffer der Stute. \nIm zweiten Höhepunkt des Tages\, dem mit 52.000 Euro dotierten Großen Preis des Audi Zentrum Hannover\, einem BBAG Auktionsrennen über 2.000 Meter\, in dem dreijährige Pferde\, die 2022 als Jährling auf einer öffentlichen Versteigerung der BBAG oder Kooperationspartner im Auktionsring angeboten und mit einer Nennung für dieses Rennen versehen wurden\, an den Start kamen\, siegte Tanami Starlet. Die Stute aus dem Quartier von Gerald Geisler\, der auch in Iffezheim ansässig ist\, wurde ebenfalls von Corentin Berge zum Sieg geritten und steht im Besitz von El Sur Racing. Tanami Starlet setzte sich gegen Roland Dzubaszs Va Bene und World Vision\, trainiert von Andreas Suborics\, durch. „Ich freue mich sehr\, dass ich die Chance bekommen habe\, Tanami Starlet zu reiten“\, freute sich Corentin Berge\, der in Chantilly vor den Toren von Paris zuhause ist. \n \nDen ersten Heimsieg gab es übrigens im dritten Rennen\, einem Ausgleich IV über 2000 Meter\, denn hier war der von Janina Reese trainierte Wallach Anno Aleman siegreich. Im Sattel des Vierjährigen\, der dem Stall Lilofee gehört\, saß mit Sarah Winkeler ebenfalls eine Lokalmatadorin\, denn die junge Reiterin ist am Reese-Quartier beschäftigt und konnte für die Bult-Trainerin bereits mehrfach siegreich in den Rennsattel steigen. \nEin weiteres Highlight beim Audi Ascot-Renntag war der beliebte Lady Elegance-Wettbewerb. Hier wurden vom Kenner Bruce Darnell\, der als Jury fungierte\, die elegantesten Outfits der Damen gekürt und es gab exklusive Preise vom Audi Zentrum Hannover\, vom Juwelier Niessing sowie von aptum im Gesamtwert von über 3.500 Euro für die erlesensten Outfits sowie Überraschungspakete mit BK by Barbara Klein-Schönheitsprodukten im Wert von ca. 100 Euro und Gutscheine “Zwei Eintrittskarten zum Preis von einer” des Staatstheater Hannovers für jede Teilnehmerin. Sowohl fürs Auge als auch fürs Herz waren die Kreationen\, die beim Kinderhut Bastelwettbewerb entstanden sind. Auch hier belohnte die prominent besetzte Jury die schönsten Kreationen mit tollen Preisen. \nIn den zehn Rennen wurden 237.022\,44 Euro umgesetzt. \nRennfilme\n\n\n01. Preis der Unternehmensberatung i-unit group (D)\, 1.750m\, 10.000 EUR\, Boden: gut bis weich\n02. Göddert Sybrecht-Erinnerungsrennen – Stuten (D)\, 2.000m\, 8.000 EUR\, Boden: gut bis weich\n03. BRANDI-Cup – Agl.IV (E)\, 2.000m\, 8.000 EUR\, Boden: gut bis weich\n04. Preis von Volkswagen Automobile Hannover – L. – Stuten (A)\, 2.400m\, 25.000 EUR\, Boden: gut bis weich\n05. aptum-Trophy – Agl.III (D)\, 1.750m\, 10.000 EUR\, Boden: gut bis weich\n06. Großer Preis des Audi Zentrum Hannover – BBAG Auktionsr. (C)\, 2.000m\, 52.000 EUR\, Boden: gut bis weich\n07. steinhoff-Cup – Agl.IV (E)\, 1.600m\, 8.200 EUR\, Boden: gut bis weich\n08.Preis der Deutschen Bank AG – Agl.II (C)\, 1.750m\, 15.000 EUR\, Boden: gut bis weich \n09. Warsteiner Cup – Agl.III (D)\, 2.400m\, 10.000 EUR\, Boden: gut bis weich\n10. LO&GO – Der Herrenausstatter Trophy – Agl.IV (E)\, 2.800m\, 8.000 EUR\, Boden: gut bis weich \nBildergalerien\nDie Bildergalerien zum Audi Ascot-Renntag
URL:https://www.neuebult.de/renntermine/5-renntag-2/
CATEGORIES:2024
ATTACH;FMTTYPE=image/jpeg:https://www.neuebult.de/wp-content/uploads/2023/08/Audi-Gewinnspiel.jpg
END:VEVENT
END:VCALENDAR