BEGIN:VCALENDAR
VERSION:2.0
PRODID:-//Hannoverscher Rennverein - ECPv6.15.17.1//NONSGML v1.0//EN
CALSCALE:GREGORIAN
METHOD:PUBLISH
X-WR-CALNAME:Hannoverscher Rennverein
X-ORIGINAL-URL:https://www.neuebult.de
X-WR-CALDESC:Veranstaltungen für Hannoverscher Rennverein
REFRESH-INTERVAL;VALUE=DURATION:PT1H
X-Robots-Tag:noindex
X-PUBLISHED-TTL:PT1H
BEGIN:VTIMEZONE
TZID:Europe/Berlin
BEGIN:DAYLIGHT
TZOFFSETFROM:+0100
TZOFFSETTO:+0200
TZNAME:CEST
DTSTART:20230326T010000
END:DAYLIGHT
BEGIN:STANDARD
TZOFFSETFROM:+0200
TZOFFSETTO:+0100
TZNAME:CET
DTSTART:20231029T010000
END:STANDARD
BEGIN:DAYLIGHT
TZOFFSETFROM:+0100
TZOFFSETTO:+0200
TZNAME:CEST
DTSTART:20240331T010000
END:DAYLIGHT
BEGIN:STANDARD
TZOFFSETFROM:+0200
TZOFFSETTO:+0100
TZNAME:CET
DTSTART:20241027T010000
END:STANDARD
BEGIN:DAYLIGHT
TZOFFSETFROM:+0100
TZOFFSETTO:+0200
TZNAME:CEST
DTSTART:20250330T010000
END:DAYLIGHT
BEGIN:STANDARD
TZOFFSETFROM:+0200
TZOFFSETTO:+0100
TZNAME:CET
DTSTART:20251026T010000
END:STANDARD
END:VTIMEZONE
BEGIN:VEVENT
DTSTART;TZID=Europe/Berlin:20241027T103000
DTEND;TZID=Europe/Berlin:20241027T170000
DTSTAMP:20260426T003039
CREATED:20250123T180105Z
LAST-MODIFIED:20250123T180105Z
UID:19480-1730025000-1730048400@www.neuebult.de
SUMMARY:Renntag der Gestüte
DESCRIPTION:Mit dem Renntag der Gestüte endet am kommenden Sonntag auf der Galopprennbahn Neue Bult die Saison 2024. Veranstaltungsbeginn ist um 10:30 Uhr. Der Start des ersten Rennens erfolgt um 11:30 Uhr. Zehn Rennen werden gestartet\, darunter vier große Highlights\, an deren Spitze der Arqana Herbst-Stuten-Preis steht. Nicht nur sportlich wird an diesem Herbstrenntag Spaß und Spannung geboten\, auch die jüngsten Besucher können sich auf einen Streichelzoo sowie auf das Kinderland mit Attraktionen wie Hüpfburgen\, Kinderschminken\, Karussells oder Laternenbasteln freuen. \nHauptereignis ist das mit 55.000 Euro dotierte Gruppe-III-Rennen um den Arqana Herbst-Stuten-Preis über die Distanz von 2.200 Metern. Grupperennen sind bekanntlich die Champions League des Galopprennsports. Zu den 12 antretenden Pferdedamen gehören zwei aus dem Ausland. Aus Frankreich wird Veil of Shadows aufgeboten\, für die Henri-Alex Pantall aus dem westfranzösischen Beaupreau verantwortlich zeichnet. Dänische Interessen wird Ultima vertreten\, die von Veronika Jandova betreut wird\, auf deutschen Bahnen aber keine Unbekannte ist\, da sie bis zum Frühjahr von Roland Dzbasz für das Gestüt Auenquelle trainiert wurde. Siegerin des Hauptrennens am letzten Renntag war die von Andreas Suborics trainierte Diamond Crown aus dem Gestüt Brümmerhof\, die mit Hugo Boutin vor Egina aus dem Stall von Peter Schiergen gewann. Nun kommt es zur Revanche. Geht es nach der offiziellen Einschätzung\, ist die international geprüfte Sacaya die Alternative. Sie kommt aus dem Stall der bald auf die Neue Bult wechselnden Trainerin Carmen Bocskai aus Iffezheim. Auch die von Marcel Weiß aufgebotene Vorjahressiegerin North Reliance kommt an den Start und könnte ihren Titel erfolgreich verteidigen. \nZwei mit jeweils 25.000 Euro dotierte Listenrennen für den Jahrgang der Zweijährigen sind weitere große Highlights. In der Alson-Trophy kommen sieben Stuten (zwei davon aus Polen) über 1.400 Meter an den Ablauf. Im Brümmerhof Youngster-Cup werden sechs Teilnehmerinnen zur 2.000-Meter-Startselle aufgaloppieren. \nKurzfristig in das Programm aufgenommen wurde das Torquator Tasso BBAG Auktionsrennen über 1.750 Meter. Es geht für neun Dreijährige um ein Preisgeld von 52.000 Euro. Bei dem Rennen handelte es sich um eines der Highlights vom vorletzten Renntag\, das aufgrund eines Problems am Start jedoch annulliert werden musste. Mit Glady Tiger\, Klaudius und Va Bene treten die gleichen Hauptprotagonisten an\, wir vor einigen Wochen. In der Außenseiterrolle werden erneut die auf der Neuen Bult trainierten Pik Dame aus dem Stall von Janina Reese und die von Bohumil Nedorostek vorbereitete Shenmi stehen. \nVon den 112 startenden Pferden werden 17 auf der Neuen Bult trainiert. Die größten Chancen auf einen Heimsieg könnte Berwick Street aus dem Stall von Janina Reese im Nastaria-Rennen\, einem Ausgleich III über 2.000 Meter\, haben. Der Wallach überquerte bereits dreimal in Folge als Erster die Ziellinie. In diesem Rennen kann die Viererwette gespielt werden. Es gibt eine Garantieauszahlung von 10.000 Euro bei einem Mindesteinsatz von 50 Cent. \nEine weitere Viererwette mit einer Ausschüttung von 10.000 Euro wird zuvor im Preis der Mehl-Mülhens-Stiftung zur Ausspielung kommen. In diesem Ausgleich III über die Meile wird sich ein kopfstarkes Feld von 15 Pferden an der Startstelle einfinden. \nKinder bis 12 Jahre erhalten freien Eintritt. Tickets können online zum Preis von 12 Euro oder am Renntag an den Tageskassen zum Preis von 14 Euro (Ermäßigungen für Schüler\, Studenten etc.) erworben werden. \n\nTrainer Henri-Alex Pantall schickt Veil Of Shadows von der Atlantikküste an die Leine\n \n\nDer mit 55.000 Euro dotierte Arqana Herbst-Stuten-Preis wird am kommenden Sonntag das sportliche Highlight am Renntag der Gestüte markieren. Das Europagruppe III-Rennen über die 2.200-Meter-Distanz wird dabei\, wie so oft in den vergangenen 20 Jahren in Deutschland\, die weltberühmten Farben von Godolphin am Ablauf sehen. Vertreterin wird Veil Of Shadows sein\, die in einem insgesamt offenen Rennen zum Favoritenkreis gehören wird. Das hat natürlich auch mit dem Trainer zu tun. \nGodolphin-Eigner Sheikh Mohammed bin Rashid al Maktoum\, der den Status des weltgrößten Besitzers verkörpert\, lässt einen Großteil seines Stuten-Lots bei Henri-Alex Pantall trainieren. Der an der westfranzösischen Atlantikküste in Beaupreau beheimatete Coach hat sich in den vergangenen Jahrzehnten vor allem als Schmiede von Blacktype-Stuten der „blauen Flotte“ einen Namen gemacht. \nSeit 2007 sendet Henri-Alex Pantall regelmäßig Pferde auf die Neue Bult. Eine wahrlich weite Anreise nimmt der Coach dafür in Kauf\, denn bei einer Anfahrt von 1.200 Kilometern gibt es sicherlich deutlich kürzere Ziele. Für die Galopprennbahn Neue Bult sind die regelmäßigen Engagements eine besondere Auszeichnung und ein Beweis dafür\, dass sich die französischen Gäste in Langenhagen sehr gut betreut und umsorgt fühlen. \nHenri-Alex Pantall hat seit 2003 in Deutschland 66 Blacktype-Rennen gewonnen\, davon 48 auf Listenparkett\, 11 auf Gruppe III-Level\, 6 auf Gruppe II-Parkett und 1 Rennen auf Gruppe I-Niveau. \nEin Großteil seiner Deutschland-Erfolge ist dabei auf der Neuen Bult zustande gekommen. In Hannover konnte Henri-Alex Pantall in 16 Blacktype-Prüfungen punkten. \n\nDas Rennprogramm/die Ergebnisse\n\n\n\n01. Sea the Moon-Preis – EBF (D)\, 1.300m\, 10.000 EUR\n02. Alson-Trophy – L. Stuten (A)\, 1.400m\, 25.000 EUR\n03. Brümmerhof Youngster-Cup – L. (A)\, 2.000m\, 25.000 EUR\n04. Coolmore Gleneagles-Trophy (D)\, 1.600m\, 10.000 EUR\n05. Preis der Mehl-Mülhens-Stiftung – Agl.III (D)\, 1.600m\, 10.250 EUR (VIERERWETTE)\n06. Arqana Herbst-Stuten-Preis – Gr.III – Stuten (A)\, 2.200m\, 55.000 EUR\n07. Pohlposition-Trophy – Agl.II (C)\, 2.000m\, 15.000 EUR\n08. Torquator Tasso – BBAG Auktionsrennen (C)\, 1.750m\, 52.000 EUR\n09. Nastaria-Rennen – Agl.III (D)\, 2.000m\, 10.250 EUR (VIERERWETTE)\n10. Rennen der Gestüte – Agl.IV (E)\, 2.000m\, 8.000 EUR \n\n\n\n\n\n\n\n\n\nAußenseiterin aus Dänemark gewinnt Arqana Herbst-Stuten-Preis\n\n6.500 Zuschauer erlebten am heutigen Sonntag einen sportlich hochwertigen Saisonabschluss auf der Neuen Bult. Zehn Rennen wurden in angenehm herbstlicher Atmosphäre gestartet\, davon vier in gehobener Kategorie. Es war ein stimmungsvoller Saisonausklang mit internationalen Siegern hier auf der Neuen Bult. „Gäste aus Polen und Dänemark sicherten sich die Siege in den Hauptrennen“\, sagt Gregor Baum\, Präsident des Hannoverschen Rennvereins e. V. \nIm Arqana Herbst-Stuten-Preis\, einem mit 55.000 Euro dotierten Gruppe-III-Rennen über 2.200 Meter\, kam es zu einem überraschenden dänischen Sieg durch die von Veronika Jandova aufgebotene Ultima\, die als Außenseiterin im zwölfköpfigen Feld angetreten war. „Sie hat in der Zielgeraden immer weiter beschleunigt“\, erklärte Siegreiter Carlos Lopez den Erfolg der in Deutschland gezüchteten Lady. Von den favorisierten deutschen Starterinnen konnte nur Egina überzeugen. Die Starterin aus dem Stall von Peter Schiergen kam auf dem zweiten Platz ein\, vor der Französin Veil Of Shadows. \n \nDie Veranstaltung begann mit drei Rennen für Zweijährige\, die ebenfalls mit unerwarteten Siegern endeten. Einen Start-Ziel-Heimsieg gab es zum Auftakt durch den von Bohumil Nedorostek aufgebotenen Debütanten Ascot Royal mit José Luis Silverio. Auf den zweiten Platz lief mit Windfang ein Trainingsgefährte. Das 2. und das 3. Rennen\, die Alson-Trophy für Stuten und der Brümmerhof Youngster Cup\, waren mit 25.000 Euro dotierte Listenrennen und somit die ersten Highlights des Nachmittags. Für eine Überraschung sorgte die in Polen von Maciej Jodlowski trainierte Merveilleux Lapin\, die unter Neue-Bult-Jockey Wladimir Panov sechs Gegnerinnen hinter sich ließ. Der von Peter Schiergen trainierte und von Bauyrzhan Murzabayev gerittene New England war in seinem Rennen zumindest Teil der Favoritengruppe und bezwang in einem spannenden Endkampf den Mitfavoriten Delgardo. „Er hat schon in der Arbeit gezeigt\, dass er einen ganz tollen Charakter hat“\, erklärte Trainer Peter Schiergen nach dem Rennen. \nIm vierten Highlight\, dem mit 52.000 Euro dotierten Torquator-Tasso-BBAG-Auktionsrennen\, schien es auf einen Dreikampf hinauszulaufen\, doch am Ende konnte nur einer der drei Favoriten vorne mitmischen\, und das war der ebenfalls von Bauyrzhan Murzabayev gesteuerte Va Bene aus dem Stall von Roland Dzubasz\, der überzeugend gewann. Auf Platz 2 überraschte Kaviar und auf Rang 3 Nightdance Giulia. \n \nIn den zehn Rennen wurden insgesamt 309.660\,20 Euro umgesetzt. \nDie Renntermine für die Saison 2025 stehen noch nicht final fest. Voraussichtlich erfolgt der Saisonstart auf der Neuen Bult am Donnerstag\, dem 1. Mai. \nRennfilme\n\n\n01. Sea the Moon-Preis – EBF (D)\, 1.300m\, 10.000 EUR\, Boden: gut bis weich\n02. Alson-Trophy – L. Stuten (A)\, 1.400m\, 25.000 EUR\, Boden: gut bis weich\n03. Brümmerhof Youngster-Cup – L. (A)\, 2.000m\, 25.000 EUR\, Boden: gut bis weich\n04. Coolmore Gleneagles-Trophy (D)\, 1.600m\, 10.000 EUR\, Boden: gut bis weich\n05. Preis der Mehl-Mülhens-Stiftung – Agl.III (D)\, 1.600m\, 10.250 EUR\, Boden: gut bis weich\n06.Arqana Herbst-Stuten-Preis – Gr.III Stuten (A)\, 2.200m\, 55.000 EUR\, Boden: gut bis weich \n07. Pohlposition-Trophy – Agl.II (C)\, 2.000m\, 15.000 EUR\, Boden: gut bis weich\n08. Torquator Tasso – BBAG Auktionsrennen (C)\, 1.750m\, 52.000 EUR\, Boden: gut bis weich\n09. Nastaria-Rennen – Agl.III (D)\, 2.000m\, 10.250 EUR\, Boden: gut bis weich\n10. Rennen der Gestüte – Agl.IV (E)\, 2.000m\, 8.000 EUR\, Boden: gut bis weich \n\n\n\n\nBildergalerien\nDie Bildergalerien zum Renntag der Gestüte
URL:https://www.neuebult.de/renntermine/8-renntag/
CATEGORIES:2024
ATTACH;FMTTYPE=image/jpeg:https://www.neuebult.de/wp-content/uploads/2022/03/08-170917D381HANNOVER.jpg
END:VEVENT
END:VCALENDAR