BEGIN:VCALENDAR
VERSION:2.0
PRODID:-//Hannoverscher Rennverein - ECPv6.15.17.1//NONSGML v1.0//EN
CALSCALE:GREGORIAN
METHOD:PUBLISH
X-WR-CALNAME:Hannoverscher Rennverein
X-ORIGINAL-URL:https://www.neuebult.de
X-WR-CALDESC:Veranstaltungen für Hannoverscher Rennverein
REFRESH-INTERVAL;VALUE=DURATION:PT1H
X-Robots-Tag:noindex
X-PUBLISHED-TTL:PT1H
BEGIN:VTIMEZONE
TZID:Europe/Berlin
BEGIN:DAYLIGHT
TZOFFSETFROM:+0100
TZOFFSETTO:+0200
TZNAME:CEST
DTSTART:20240331T010000
END:DAYLIGHT
BEGIN:STANDARD
TZOFFSETFROM:+0200
TZOFFSETTO:+0100
TZNAME:CET
DTSTART:20241027T010000
END:STANDARD
BEGIN:DAYLIGHT
TZOFFSETFROM:+0100
TZOFFSETTO:+0200
TZNAME:CEST
DTSTART:20250330T010000
END:DAYLIGHT
BEGIN:STANDARD
TZOFFSETFROM:+0200
TZOFFSETTO:+0100
TZNAME:CET
DTSTART:20251026T010000
END:STANDARD
BEGIN:DAYLIGHT
TZOFFSETFROM:+0100
TZOFFSETTO:+0200
TZNAME:CEST
DTSTART:20260329T010000
END:DAYLIGHT
BEGIN:STANDARD
TZOFFSETFROM:+0200
TZOFFSETTO:+0100
TZNAME:CET
DTSTART:20261025T010000
END:STANDARD
END:VTIMEZONE
BEGIN:VEVENT
DTSTART;TZID=Europe/Berlin:20250921T120000
DTEND;TZID=Europe/Berlin:20250921T173000
DTSTAMP:20260425T060821
CREATED:20241024T195818Z
LAST-MODIFIED:20250922T060344Z
UID:26120-1758456000-1758475800@www.neuebult.de
SUMMARY:VGH Oktoberfest-Renntag
DESCRIPTION:Wiesn-Flair auf der Neuen Bult – Judith Rakers Ehrengast\nAm kommenden Sonntag\, 21. September\, steht die Neue Bult ganz im Zeichen des Oktoberfests: Der traditionsreiche VGH Oktoberfest-Renntag bringt bayerische Lebensfreude\, kulinarische Schmankerl und spannenden Galopprennsport zusammen. \nAb 12 Uhr erwartet die Besucherinnen und Besucher ein abwechslungsreicher Tag mit neun spannenden Rennen\, vielen Mitmachaktionen und einem bunten Familienprogramm. \nBesonderes Highlight ist der große Trachtenwettbewerb\, bei dem die schönsten Dirndl- und Lederhosen-Looks mit hochwertigen Preisen belohnt werden. Und das Beste: Wer in Tracht erscheint\, hat freien Eintritt! \nAuch sportlich ist einiges geboten. Im mit 52.000 Euro dotierten Großen Preis der VGH Versicherungen über 1.750 Meter treffen sich neun vielversprechende Dreijährige\, die allesamt bei der renommierten BBAG in Iffezheim durch den Auktionsring gegangen sind. Meeresbrise\, trainiert von Henk Grewe\, die wie ihre Stallgefährtin Winnyzja bereits im Preis der Diana antrat. Als Favorit gilt jedoch der von Waldemar Hickst trainierte Next Mine\, der bereits mehrfach in Toprennen glänzte. Lokale Hoffnungen ruhen auf Westwood\, einem Starter aus dem Quartier von Carmen Bocskai auf der Neuen Bult. \nDer Große Preis der Privatbank ODDO BHF ist das zweite sportliche Highlight des Tages. Das mit 25.000 Euro dotierte Listenrennen ist den zweijährigen Nachwuchsgaloppern vorbehalten. Besonders im Fokus: Loucas\, ebenfalls von Waldemar Hickst\, der nach einem überzeugenden Debüt als kommender Crack gehandelt wird. Aus Hannover geht mit Abdulhamid ein Neuzugang von Bohumil Nedorostek an den Start – als Außenseiter\, aber mit Potenzial. Für internationales Flair sorgt Lady Liva\, die in Polen vorbereitet wird. \nVon den insgesamt 75 Startern des Tages werden 17 direkt auf der Neuen Bult trainiert. Jeweils sechs Pferde satteln Janina Reese und Bohumil Nedorostek\, drei stellt Christian Sprengel\, zwei Carmen Bocskai. \nKinder bis 12 Jahre sowie alle Besucherinnen und Besucher in bayerischer Tracht genießen freien Eintritt. Tageskarten kosten 12\,00 Euro im Online-Vorverkauf und 14\,00 Euro an der Tageskasse (Ermäßigungen für Schüler\, Studierende etc.). \nDas Rennprogramm/die Ergebnisse\n \n\n01. Preis der VGH Agentur Hausmann & Berger OHG – EBF-Rennen\, 1.400m\, 10.000 EUR\n02.Preis der VGH Vertretung Seidel & Seidel GmbH\, Hannover – Agl.III\, 1.300m\, 8.000 EUR \n03. Preis der VGH Vertretung Jascha Noltemeier e.K.\, Bad Münder – Agl.IV\, 1.600m\, 6.000 EUR\n04. Großer Preis der Privatbank ODDO BHF – Junioren-Preis – L. -\, 1.600m\, 25.000 EUR\n05. Preis der VGH Vertretung Tim Albers e.K.\, Munster – 1.750m\, 10.000 EUR\n06. Großer Preis der VGH Versicherungen – BBAG Auktionsrennen\, 1.750m\, 52.000 EUR\n07. Preis der VGH Vertretung Fechner & Schwolow OHG\, Langenhagen – Agl.III\, 1.750m\, 8.200 EUR (VIERERWETTE)\n08. Preis der VGH Vertretung Pletz & Becker GmbH aus Lamspringe – Agl.IV\, 2.000m\, 6.000 EUR\n09. pferdewetten.de-Cup – Agl.III\, 2.800m\, 8.000 EUR \nVGH Oktoberfest-Renntag mit vier Siegen von Championjockey Thore Hammer-Hansen – Soreanga und Warren Hill siegen in den Hauptrennen\n \nEs herrschte beim VGH Oktoberfest-Renntag bayrisches Flair auf der Neuen Bult. Zur Mittagszeit hieß es „O’zapft is!“ – und 7.800 Zuschauer\, teils in Dirndl oder Lederhose\, erlebten zünftigen Galopprennsport sowie ein abwechslungsreiches Rahmenprogramm. Ein Höhepunkt war der große Trachtenwettbewerb\, bei dem zahlreiche bayrische Trachten präsentiert wurden und die Jury – unter anderem mit TV-Moderatorin Judith Rakers besetzt – die schönsten Trachten kürte. \n \nHauptereignis war der Große Preis der VGH Versicherung\, ein mit 52.000 Euro dotiertes BBAG Auktionsrennen über 1.750 Meter. Ein spannender Endkampf begeisterte die Zuschauer. Der lange führende Warren Hill schien auf der Zielgeraden vom Favoriten Next Mine schon überlaufen zu sein\, doch er kämpfte zurück und überquerte als Sieger die Linie. Der von Henk Grewe (zweiter Sieg nach Nardos in der Auftaktprüfung) in Köln trainierte Wallach wurde von Leon Wolff geritten. „Ich habe selbst nicht gedacht\, dass er noch einmal wiederkommt\, aber er hat ein Riesen-Kämpferherz“\, so Wolff. Später gewann er zudem die Abschlussprüfung mit Blue Lips. \n \nDas zweite Highlight war der von Zweijährigen bestrittene Große Privatbank ODDO BHF – Junioren Preis. Nach einem offensiven Ritt von Jockey Eduardo Pedroza setzte sich in diesem mit 25.000 Euro dotierten Listenrennen eine von zwei Stuten gegen die sechsköpfige Konkurrenz durch. Die von Andreas Wöhler vorbereitete Soreanga übernahm früh die Führung. Als in der Zielgeraden die Angriffe der Konkurrenz erfolgten\, konnte sie noch einmal in einen höheren Gang schalten und sich am Ende leicht absetzen. „Das hat sie gut gemacht. Sie hat durch den ersten Start gut gelernt\, und das war ein schöner Sieg“\, erklärte Pedroza. \nAuch wenn er in den beiden Hauptrennen jeweils nur den zweiten Platz belegte\, war Champion Jockey Thore Hammer Hansen mit vier Treffern der Mann des Tages. Er gewann das einleitende Zweijährigenrennen mit Nardos\, es folgten weitere Siege mit Circuskind\, Nova Gorica und Aral. Der aus Kasachstan stammende Nachwuchsreiter Esentur Turganaaly Uulu war mit Feuerwehrfelicitas und Cherub Rock doppelt erfolgreich – beide trainiert von Gunter Richter in Hoppegarten. \nIn den neun Rennen wurden insgesamt 226.168\,01 Euro umgesetzt. \nWeiter geht es auf der Neuen Bult am Sonntag\, den 5. Oktober\, mit dem Renntag der Landwirtschaft. Parallel zu einem Bauernmarkt sind acht Rennen geplant\, darunter ein Listenrennen über 2.000 Meter für Stuten. \nTickets können schon jetzt online zum Preis von 12 Euro erworben werden. Kinder bis 12 Jahre haben freien Eintritt.
URL:https://www.neuebult.de/renntermine/oktoberfest-renntag/
CATEGORIES:2025
ATTACH;FMTTYPE=image/jpeg:https://www.neuebult.de/wp-content/uploads/2022/05/190915D112HANNOVER.jpg
END:VEVENT
END:VCALENDAR