BEGIN:VCALENDAR
VERSION:2.0
PRODID:-//Hannoverscher Rennverein - ECPv6.15.17.1//NONSGML v1.0//EN
CALSCALE:GREGORIAN
METHOD:PUBLISH
X-WR-CALNAME:Hannoverscher Rennverein
X-ORIGINAL-URL:https://www.neuebult.de
X-WR-CALDESC:Veranstaltungen für Hannoverscher Rennverein
REFRESH-INTERVAL;VALUE=DURATION:PT1H
X-Robots-Tag:noindex
X-PUBLISHED-TTL:PT1H
BEGIN:VTIMEZONE
TZID:Europe/Berlin
BEGIN:DAYLIGHT
TZOFFSETFROM:+0100
TZOFFSETTO:+0200
TZNAME:CEST
DTSTART:20240331T010000
END:DAYLIGHT
BEGIN:STANDARD
TZOFFSETFROM:+0200
TZOFFSETTO:+0100
TZNAME:CET
DTSTART:20241027T010000
END:STANDARD
BEGIN:DAYLIGHT
TZOFFSETFROM:+0100
TZOFFSETTO:+0200
TZNAME:CEST
DTSTART:20250330T010000
END:DAYLIGHT
BEGIN:STANDARD
TZOFFSETFROM:+0200
TZOFFSETTO:+0100
TZNAME:CET
DTSTART:20251026T010000
END:STANDARD
BEGIN:DAYLIGHT
TZOFFSETFROM:+0100
TZOFFSETTO:+0200
TZNAME:CEST
DTSTART:20260329T010000
END:DAYLIGHT
BEGIN:STANDARD
TZOFFSETFROM:+0200
TZOFFSETTO:+0100
TZNAME:CET
DTSTART:20261025T010000
END:STANDARD
END:VTIMEZONE
BEGIN:VEVENT
DTSTART;TZID=Europe/Berlin:20251005T120000
DTEND;TZID=Europe/Berlin:20251005T173000
DTSTAMP:20260425T043310
CREATED:20250120T082148Z
LAST-MODIFIED:20251013T101008Z
UID:26848-1759665600-1759685400@www.neuebult.de
SUMMARY:Renntag der Landwirtschaft
DESCRIPTION:Bankier aus Freiburg hat im Stutenpreis die Siegbörse im Visier – Buntes Programm für die ganze Familie\nAm kommenden Sonntag (5. Oktober) lädt der Hannoversche Rennverein ab 12:00 Uhr zum traditionellen Renntag der Landwirtschaft ein. Auf die Besucherinnen und Besucher warten neun spannende Galopprennen\, das erste davon startet um 13:20 Uhr. \nDazu gibt es ein abwechslungsreiches Rahmenprogramm. Im Mittelpunkt steht ein großer Bauernmarkt\, auf dem regionale Produkte präsentiert und erworben werden können. Zahlreiche Vorführungen und Aktionen runden das Angebot ab und sorgen für die besondere Atmosphäre\, die diesen Renntag jedes Jahr aufs Neue auszeichnet. \nIm sportlichen Mittelpunkt steht der Starkmacherin der Region-Stutenpreis\, ein Listenrennen über 2.000 Meter\, dotiert mit 25.000 Euro. Von den zehn startenden Stuten werden zwei auf der Neuen Bult vorbereitet: Anna Riva (Gestüt Brümmerhof) aus dem Stall von Carmen Bocskai zählt mit Championjockey Thore Hammer-Hansen zu den Siegkandidatinnen\, während Sweet Summer aus dem Quartier von Bohumil Nedorostek mit David Liska als Außenseiterin ins Rennen geht. Favoritin sollte Stall Nizzas Aglaia mit Michal Abik an Bord werden\, die von Waldemar Hickst in Köln vorbereitet wird. Mit Peter Schiergens Asteria hat der Stall Nizza noch eine weitere Waffe im Rennen. Hinter dem Stall Nizza verbirgt sich der Freuburger Bankier Jürgen Imm\, der gemeinsam mit seiner Frau Ursula\, zu den erfolgreichsten Besitzern und Züchtern des Landes zählt\, was nicht zuletzt der Sieg im Deutschen Derby 2005 und 2015 (Nicaron und Nutan) unterstreicht. Starke Konkurrenz droht durch die in München von Sarah Steinberg trainierte Noble Breath mit Rene Piechulek im Sattel. Für zusätzliche Spannung sorgt die nachgenannte Französin She’s A Tease\, die für das traditionsreiche Gestüt Schlenderhan antritt. \nAuch der Ausgleich I\, die Bundesliga des Galopprennsports\, verspricht Hochspannung: Sieben Pferde kämpfen hier um ein Preisgeld von 20.000 Euro. Mit dabei ist Publikumsliebling Woody Wood\, doch die besten Siegchancen dürfte Klaudius im Besitz des Iffezheimer Unternehmers Martin Kronimus haben. Der von Andreas Bolte in Lengerich im Tecklenburger Land trainierte vierjährige Areion-Sohn wird von Neue-Bult-Jockey David Liska geritten. Insgesamt ist dieses Handicap der höchsten Kategorie eine offene Angelegenheit\, bei der der Sieg auch über Thor Lightning (Jozef Bojko)\, Glady Tiger (Thore Hammer-Hansen)\, Iron Man (Renè Piechulek) und Vicente (Concetto Santangelo) führen könnte. \nIm 8. Rennen\, dem Energieeffizienz-Rennen der Firma Günter Mischke GmbH\, wird eine Viererwette mit 10.000 Euro Garantieauszahlung angeboten (Mindesteinsatz 50 Cent). Besonders im Fokus steht Adio aus dem Club Neue Bult e.V.\, eines von fünf Pferden\, die Bohumil Nedorostek an diesem Tag sattelt. Starke Präsenz zeigen auch die Quartiere von Christian Sprengel (vier Starter) und Carmen Bocskai (zwei Starter). Insgesamt werden 11 der 77 Starter auf der Neuen Bult trainiert. \nKinder bis 12 Jahre erhalten freien Eintritt. Tickets kosten im Vorverkauf 12 Euro (online) und an der Tageskasse 14 Euro (Ermäßigungen für Schüler\, Studierende etc.). \nDas Rennprogramm/Die Ergebnisse\n\n \n\n\n01. Preis der Landesjägerschaft Niedersachsen – 2.400m\, 10.000 EUR\n02. AGRAVIS – Trophy – EBF\, 2.000m\, 10.000 EUR\n03. Preis von Mercedes-Benz Hannover – 1.900m\, 10.000 EUR\n04. Preis der VGH Versicherungen – Agl.III\, 1.400m\, 8.000 EUR\n05. Starkmacherin der Region-Stutenpreis – L.- Stuten\, 2.000m\, 25.000 EUR\n06. Gehrke Econ-Cup – 1.750m\, 6.000 EUR\n07. Preis des Calenberger Kreditvereins – Agl.I\, 1.600m\, 20.000 EUR\n08. Energieeffizienz – Rennen der Firma Günter Mischke GmbH – Agl.IV\, 2.400m\, 15.000 EUR (VIERERWETTE)\n09. MTS Kurier- und Transportservice GmbH-Cup – 1.400m\, 6.000 EUR \nRuby Lips und Glady Tiger in den Hauptrennen vorne\nJedes Jahr aufs Neue zieht der Renntag der Landwirtschaft zahlreiche Zuschauerinnen und Zuschauer auf die Neue Bult\, die über den Bauernmarkt schlendern\, sich für die verschiedenen Aufführungen interessieren und sich vor allem an den schnellen Rennpferden erfreuen. 6.400 Gäste waren am heutigen Sonntag auf der Neuen Bult zu Gast. \n \nHauptereignis war der Starkmacherin der Region-Stutenpreis\, ein mit 25.000 Euro dotiertes Listenrennen für die Pferdedamen über 2.000 Meter. Nach einem spannenden Endkampf hatte die von Eva Fabianova in Hoppegarten bei Berlin trainierte Ruby Lips das bessere Ende gegenüber Princess Valentina. Dahinter kam die Außenseiterin Namouria noch stärker auf. Für Jockey Concetto Santangelo war es der bislang größte Sieg in Deutschland. „Sie hat nicht viel Speed\, sondern geht eher ein Tempo. So habe ich dann auch geritten. Wir hatten eine gute Lage\, sie hat das in der Geraden sehr gut gemacht“\, so seine Worte nach dem Rennen. \n \nZweites Highlight war der Ausgleich I mit dem Titel Preis des Calenberger Kreditvereins. In dieser 1.600-Meter-Prüfung setzte sich Glady Tiger durch\, der in letzter Zeit mehrfach als Pacemaker eingesetzt worden war. Im Sattel saß der aktuelle Championjockey Thore Hammer-Hansen\, der später auch die Abschlussprüfung mit King of the Night gewann. Der Münchener Iron Man wurde Zweiter\, der Dresdner Thor Lightning Dritter. \nGleich zweimal durfte Esentur Turganaaly Uulu zur Siegerehrung. Der Nachwuchsreiter aus Kirgisistan gewann für Trainer Peter Schiergen sowohl mit dem Zweijährigen Abachi als auch mit der klarsten Favoritin des Tages\, der Stute Sorceress. \n \nEinen Heimsieg gab es im Energieeffizienz-Rennen der Firma Günter Mischke GmbH\, einem Ausgleich IV über 2.400 Meter\, durch Adio aus dem Stall von Bohumil Nedorostek für den Club Neue Bult e. V. Für Adio\, der wie gewohnt seine Gegnerschaft von der Spitze aus in Grund und Boden stiefelte\, war es bereits der dritte Jahrestreffer. \nIn den neun Rennen wurden insgesamt 197.620\,58 Euro umgesetzt. \nDas Saisonfinale findet am Sonntag\, 26. Oktober\, statt. Am Kentucky Owners & Breeders Day stehen der Gruppe III-Herbst-Stutenpreis sowie zwei Listenrennen für Zweijährige im Mittelpunkt. \nRennfilme\n\n\n01. Preis der Landesjägerschaft Niedersachsen – 2.400m\, 10.000 EUR\, Boden: gut bis weich\n02. AGRAVIS-Trophy – EBF\, 2.000m\, 10.000 EUR\, Boden: gut bis weich\n03.Preis von Mercedes-Benz Hannover – 1.900m\, 10.000 EUR\, Boden: gut bis weich \n04. Preis der VGH Versicherungen – Agl.III\, 1.400m\, 8.000 EUR\, Boden: gut bis weich\n05. Starkmacherin der Region-Stutenpreis – L. – Stuten\, 2.000m\, 25.000 EUR\, Boden: gut bis weich\n06. Gehrke Econ-Cup – 1.750m\, 6.000 EUR\, Boden: gut bis weich\n07. Preis des Calenberger Kreditvereins – Agl.I\, 1.600m\, 20.000 EUR\, Boden: gut bis weich\n08. Rennen der Firma Günter Mischke GmbH – Agl.IV\, 2.400m\, 15.000 EUR\, Boden: gut bis weich\n09. MTS Kurier- und Transportservice GmbH-Cup – 1.400m\, 6.000 EUR\, Boden: gut bis weich\nPonyrennen \n\n\nBildergalerien\nDie Bildergalerien zum Renntag der Landwirtschaft.
URL:https://www.neuebult.de/renntermine/renntag-der-landwirtschaft/
CATEGORIES:2025
ATTACH;FMTTYPE=image/jpeg:https://www.neuebult.de/wp-content/uploads/2023/05/230501D949HANNOVER.jpg
END:VEVENT
BEGIN:VEVENT
DTSTART;TZID=Europe/Berlin:20251026T103000
DTEND;TZID=Europe/Berlin:20251026T163000
DTSTAMP:20260425T043310
CREATED:20241024T195920Z
LAST-MODIFIED:20251027T082422Z
UID:26123-1761474600-1761496200@www.neuebult.de
SUMMARY:Kentucky Owners & Breeders Day
DESCRIPTION:Am kommenden Sonntag\, 26. Oktober\, findet auf der Galopprennbahn Neue Bult ab 10:30 Uhr der große Saisonausklang statt. Der Kentucky Owners & Breeders Day ist ein Premium-Sonntag\, an dem kein Rennen mit weniger als 15.000 Euro dotiert ist. \nDas sportliche Highlight ist der Shadwell Stallions – Herbst-Stutenpreis. Dieses Gruppe III-Rennen\, die Champions League des Galopprennsports\, ist mit 55.000 Euro dotiert und führt über 2.200 Meter. Favoritin ist die dreijährige Santagada aus dem Stall von Peter Schiergen\, die am 3. Oktober den Preis der Deutschen Einheit in Berlin-Hoppegarten gewann. Im Sattel sitzt Leon Wolff. Doch das Feld ist international stark besetzt: Die Französin Silaway kann ebenso nach vorne laufen\, während Anna Riva\, trainiert von Carmen Bocskai\, als Lokalmatadorin für eine Überraschung sorgen könnte. \nIm Gestüt Wittekindshof – Youngster Fillies Cup und im Alson – Youngster Steher Cup versuchen sich die Zweijährigen in der Listenklasse. Beide Prüfungen sind mit jeweils 25.000 Euro dotiert. Der Alson – Youngster Steher Cup führt über 2.000 Meter. Vier der acht Starter werden auf der Neuen Bult trainiert – drei davon von Bohumil Nedorostek. Besonders im Fokus steht sein Debütant Nariman\, der von Stalljockey David Liska geritten wird und kürzlich als bester Zweijähriger des Stalles bezeichnet wurde. Seine Trainingsgefährten Abdulhamid und Sancak bringen Rennerfahrung mit\, ebenso wie Dardanos aus dem Stall von Janina Reese. Schlagen müssen sie den Favoriten Abachi\, trainiert von Peter Schiergen in Köln. \nDer Gestüt Wittekindshof – Youngster Fillies Cup ist international besetzt – unter anderem mit der Französin Burguesinha und der ungeschlagenen Only Luck aus Polen. Nach den Vorleistungen gilt jedoch die von Waldemar Hickst trainierte Fast Angel als Favoritin. \nIm 6. Rennen\, dem Preis der BBAG Auktionen\, lockt die Viererwette mit einer Garantieauszahlung von 22.222 Euro – bei einem Mindesteinsatz von nur 50 Cent. Insgesamt gehen 15 Pferde an den Start. \nDie Neue Bult-Trainer sind am gesamten Renntag stark vertreten: 18 der 97 Starter werden vor Ort trainiert. Bohumil Nedorostek bietet zehn Pferde auf\, Christian Sprengel drei\, Janina Reese vier und Carmen Bocskai die bereits erwähnte Anna Riva. \nKinder bis 12 Jahre haben freien Eintritt. Tickets sind online zum Preis von 12 Euro erhältlich\, an der Tageskasse kosten sie 14 Euro (Ermäßigungen für Schüler\, Studierende etc.). \n\nDas Rennprogramm/Die Ergebnisse\n \n\n01. Sea The Moon-Preis – EBF – Stuten\, 1.600m\, 15.000 EUR\n02. Gestüt Wittekindshof – Youngster Fillies Cup – L. – Stuten\, 1.400m\, 25.000 EUR\n03. Preis des Stall Hanse – 1.600m\, 15.000 EUR\n04. Alson – Youngster Steher Cup – L. \, 2.000m\, 25.000 EUR\n05. Shadwell Stallions – Herbst-Stutenpreis – Gr.III – Stuten\, 2.200m\, 55.000 EUR\n06. Preis der BBAG Auktionen – Agl.III\, 1.750m\, 18.000 EUR (VIERERWETTE 22.222 EUR GARANTIE)\n07. Preis von Kentucky und America Unlimited – Agl.II\, 2.000m\, 22.000 EUR\n08. Preis der Mehl-Mülhens-Stiftung – Agl.IV\, 2.000m\, 15.000 EUR\n09. Coolmore Gleneagles-Trophy – Agl.III\, 2.200m\, 18.000 EUR \n\nSantagada gewinnt den Shadwell Stallions – Herbst-Stutenpreis\nVor 4.300 Zuschauern endete am heutigen Sonntag mit dem Kentucky Owners & Breeders Day die Galoppsaison auf der Neuen Bult. Geboten wurde Spitzensport unter herbstlichen Bedingungen. \n \nHauptereignis war der Shadwell Stallions – Herbst-Stutenpreis\, ein mit 55.000 Euro dotiertes Gruppe-III-Rennen für die Ladies über 2.200 Meter. Da sie Anfang des Monats den Preis der Deutschen Einheit gewonnen hatte\, startete die von Peter Schiergen trainierte Santagada mit Leon Wolff im Sattel als klare Favoritin. Sie galoppierte lange im erweiterten Vorderfeld. Als es in die Zielgerade ging\, ergriff der Reiter die Initiative und war direkt vorne. Zwar versuchte Weltbeste noch anzugreifen\, doch die Siegerin stand bald fest. „Ich hatte immer ein gutes Gefühl – wie schon in Köln\, wo ich mit ihr gewonnen habe. Sie ist schon ein tolles Pferd“\, so der Siegjockey. Den dritten Platz belegte die vor Ort von Carmen Bocskai trainierte Anna Riva\, die sich für die lange Führungsarbeit belohnte. \nMit jeweils 25.000 Euro dotiert waren zwei Listenrennen für Zweijährige\, also für den jüngsten Rennpferdejahrgang. Im Gestüt Wittekindshof – Youngster Fillies Cup kam es zu einem polnischen Sieg durch Only Luck. Dieser war keineswegs glücklich – die somit weiterhin unbesiegte Lady aus dem Stall von Krzysztof Ziemianski lieferte sich auf der Zielgeraden einen Kampf mit Fast Angel und setzte sich am Ende sicher durch. Im Sattel saß Martin Seidl\, der nach dem Zieleinlauf meinte: „Ich hatte eine Top-Lage\, meine Stute war einen Tick spritziger als die Gegnerin.“ \nDen Alson – Youngster Steher Cup gewann Kairos aus dem Stall von Henk Grewe unter Leon Wolff\, der also in zwei der sportlichen Hauptereignisse erfolgreich war. Doch der Favorit musste sich bis zur Ziellinie gegen Abachi erwehren. Beide galoppierten deutlich voraus über die Ziellinie. „Er hatte nicht den besten Start\, und es kostete etwas Kraft\, dann nach vorne zu kommen“\, so Trainer Grewe. „Kairos hat das gut gemacht\, Leon hat ihn gut geritten.“ Lokalmatador Abdulhamid aus dem Stall von Bohumil Nedorostek belegte den dritten Platz. \n \nFür einen ersten Heimsieg sorgte Son of England direkt nach dem Grupperennen. Den Preis der BBAG Auktionen gewann der Nedorostek-Hengst unter David Liska mit viel Kampfgeist. Den zeigte in der vorletzten Tagesprüfung auch die Stute Ja Ich Will aus dem Stall von Christian Sprengel und kam zu einem verdienten Treffer. Im Sattel saß Martin Seidl\, der an diesem Nachmittag also zweimal zur Siegerehrung durfte. \nIn den neun Rennen wurden insgesamt 255.853\,27 Euro umgesetzt. \nDer voraussichtliche Start der Saison 2026 auf der Neuen Bult wird der 1. Mai sein
URL:https://www.neuebult.de/renntermine/renntag-der-gestuete/
CATEGORIES:2025
ATTACH;FMTTYPE=image/jpeg:https://www.neuebult.de/wp-content/uploads/2022/04/H.02.01-Auto-oben-07.jpg
END:VEVENT
END:VCALENDAR