BEGIN:VCALENDAR
VERSION:2.0
PRODID:-//Hannoverscher Rennverein - ECPv6.15.17.1//NONSGML v1.0//EN
CALSCALE:GREGORIAN
METHOD:PUBLISH
X-ORIGINAL-URL:https://www.neuebult.de
X-WR-CALDESC:Veranstaltungen für Hannoverscher Rennverein
REFRESH-INTERVAL;VALUE=DURATION:PT1H
X-Robots-Tag:noindex
X-PUBLISHED-TTL:PT1H
BEGIN:VTIMEZONE
TZID:Europe/Berlin
BEGIN:DAYLIGHT
TZOFFSETFROM:+0100
TZOFFSETTO:+0200
TZNAME:CEST
DTSTART:20250330T010000
END:DAYLIGHT
BEGIN:STANDARD
TZOFFSETFROM:+0200
TZOFFSETTO:+0100
TZNAME:CET
DTSTART:20251026T010000
END:STANDARD
BEGIN:DAYLIGHT
TZOFFSETFROM:+0100
TZOFFSETTO:+0200
TZNAME:CEST
DTSTART:20260329T010000
END:DAYLIGHT
BEGIN:STANDARD
TZOFFSETFROM:+0200
TZOFFSETTO:+0100
TZNAME:CET
DTSTART:20261025T010000
END:STANDARD
BEGIN:DAYLIGHT
TZOFFSETFROM:+0100
TZOFFSETTO:+0200
TZNAME:CEST
DTSTART:20270328T010000
END:DAYLIGHT
BEGIN:STANDARD
TZOFFSETFROM:+0200
TZOFFSETTO:+0100
TZNAME:CET
DTSTART:20271031T010000
END:STANDARD
END:VTIMEZONE
BEGIN:VEVENT
DTSTART;TZID=Europe/Berlin:20261025T100000
DTEND;TZID=Europe/Berlin:20261025T170000
DTSTAMP:20260425T042835
CREATED:20251024T061129Z
LAST-MODIFIED:20260324T224314Z
UID:32053-1792922400-1792947600@www.neuebult.de
SUMMARY:Renntag der Gestüte
DESCRIPTION:Ein Feuerwerk an sportlich hochkarätigen Rennen wird am Renntag der Gestüte abgefeuert. Das Hauptaugenmerk wird sich ganz besonders auf den mit 55.000 Euro dotierten Herbst-Stutenpreis richten. Bei diesem Rennen handelt es sich um das einzige Rennen der Europagruppe III-Kategorie\, das auf der Neuen Bult entschieden wird. Für dieses Rennen wird es mit Sicherheit eine großere Resonanz aus dem In- und Ausland geben. Ebenso auf internationalem Parkett\, allerdings auf Listenlevel\, werden ein Rennen für zweijährige Stuten\, wie auch ein Listenrennen für den Nachwuchs über die Steherdistanz stattfinden. Mit diesem Renntag\, bei dem es ein buntes Unterhaltungsprogramm für die ganze Familie geben wird\, verabschieded sich der Hannoversche Rennverein in seine Winterpause. Nutzen Sie die Gelegenheit\, zum Jahresausklang noch einmal Galopprennsport auf höchstem Niveau zu erleben. \nHier geht es zu den Tickets
URL:https://www.neuebult.de/renntermine/renntag-der-gestuete-3/
CATEGORIES:2026
ATTACH;FMTTYPE=image/jpeg:https://www.neuebult.de/wp-content/uploads/2022/07/395D130714HANNOVER.jpg
END:VEVENT
END:VCALENDAR